BEGIN:VCALENDAR
VERSION:2.0
PRODID:-//Καλλινίκη - ECPv6.15.20//NONSGML v1.0//EN
CALSCALE:GREGORIAN
METHOD:PUBLISH
X-ORIGINAL-URL:https://kalliniki.gr
X-WR-CALDESC:Events for Καλλινίκη
REFRESH-INTERVAL;VALUE=DURATION:PT1H
X-Robots-Tag:noindex
X-PUBLISHED-TTL:PT1H
BEGIN:VTIMEZONE
TZID:Europe/Athens
BEGIN:DAYLIGHT
TZOFFSETFROM:+0200
TZOFFSETTO:+0300
TZNAME:EEST
DTSTART:20240331T010000
END:DAYLIGHT
BEGIN:STANDARD
TZOFFSETFROM:+0300
TZOFFSETTO:+0200
TZNAME:EET
DTSTART:20241027T010000
END:STANDARD
BEGIN:DAYLIGHT
TZOFFSETFROM:+0200
TZOFFSETTO:+0300
TZNAME:EEST
DTSTART:20250330T010000
END:DAYLIGHT
BEGIN:STANDARD
TZOFFSETFROM:+0300
TZOFFSETTO:+0200
TZNAME:EET
DTSTART:20251026T010000
END:STANDARD
BEGIN:DAYLIGHT
TZOFFSETFROM:+0200
TZOFFSETTO:+0300
TZNAME:EEST
DTSTART:20260329T010000
END:DAYLIGHT
BEGIN:STANDARD
TZOFFSETFROM:+0300
TZOFFSETTO:+0200
TZNAME:EET
DTSTART:20261025T010000
END:STANDARD
END:VTIMEZONE
BEGIN:VEVENT
DTSTART;TZID=Europe/Athens:20251207T120000
DTEND;TZID=Europe/Athens:20251207T140000
DTSTAMP:20260425T143443
CREATED:20251108T173404Z
LAST-MODIFIED:20251121T083706Z
UID:2024-1765108800-1765116000@kalliniki.gr
SUMMARY:Μουσικοθεατρική παράσταση: "Η αράχνη και ο ιστός της φιλίας"
DESCRIPTION:Προσθέστε στο πρόγραμμα εξορμήσεων για τον Δεκέμβριο την Κυριακή 7/12 ..  “Η αράχνη και ο ιστός της φιλίας ”\nΈνας αρχέγονος μύθος που μας θυμίζει πως η τέχνη ανθίζει όταν μοιράζεται και γίνεται δύναμη όταν ενωνόμαστε.\nΜια βιωματική παράσταση με live μουσική\, ενεργή συμμετοχή των παιδιών\, θεατρικό παιχνίδι\, body percussion\, τραγούδι και αυτοσχεδιασμό.\nΤα παιδιά γνωρίζουν μουσικά όργανα από όλο τον κόσμο και γίνονται μέρος ενός ζωντανού ιστού φιλίας\, φαντασίας και δημιουργίας.\nΜαζί υφαίνουμε το μέλλον. \nΕίσοδος 10€\, για τα μέλη 8€\nΠαραγωγή: Theatropoió \nΣύλληψη – Σκηνοθεσία: Ελισάβετ Θεοδώρου\nΠάντα πρώτα στην Καλλινίκη!!!\nΤηλ:  2106139689
URL:https://kalliniki.gr/event/mousikotheatriki-parastasi-i-arachni-kai-o-istos-tis-filias/
LOCATION:Πολυχώρος εκδηλώσεων Καλλινίκη\, Κισσάβου 18Α\, Βριλήσσια\, 15235
CATEGORIES:Θέατρο
ATTACH;FMTTYPE=image/jpeg:https://kalliniki.gr/wp-content/uploads/2025/11/Η-αράχνη_2.jpg
ORGANIZER;CN="%CE%A0%CE%BF%CE%BB%CE%B9%CF%84%CE%B9%CF%83%CF%84%CE%B9%CE%BA%CF%8C%CF%82 %CE%A3%CF%8D%CE%BB%CE%BB%CE%BF%CE%B3%CE%BF%CF%82 %CE%9A%CE%B1%CE%BB%CE%BB%CE%B9%CE%BD%CE%AF%CE%BA%CE%B7":MAILTO:syllogoskalliniki@gmail.com
END:VEVENT
BEGIN:VEVENT
DTSTART;TZID=Europe/Athens:20251207T160000
DTEND;TZID=Europe/Athens:20251207T180000
DTSTAMP:20260425T143443
CREATED:20251115T094412Z
LAST-MODIFIED:20251115T094412Z
UID:2042-1765123200-1765130400@kalliniki.gr
SUMMARY:Δωρεάν Σεμινάριο "Το χρώμα στη ζωή μας και πώς το φτιάχνουμε"
DESCRIPTION:Με χαρά παρουσιάζουμε μια ξεχωριστή προσφορά αποκλειστικά για τα μέλη μας ένα σεμινάριο που έχει ετοιμάσει η ζωγράφος Έλενα Πολυχρονιάδη μετά από μακρά έρευνα στην αισθητική\, στη διακόσμηση\, στο χρώμα στα ρούχα και φυσικά στη σχέση των χρωμάτων με τη διάθεση και την ψυχολογία μας.\n\n\nΤι θα ανακαλύψουμε:\n Πώς γεννιούνται οι αποχρώσεις\n Πώς το χρώμα επηρεάζει τη συναισθηματική μας κατάσταση\n Πώς δημιουργούμε αρμονικούς συνδυασμούς στη ζωγραφική\, στο σπίτι και στο ντύσιμο\n Πρακτικές εφαρμογές μέσα από μικτές τεχνικές\n\n\nΈνα δημιουργικό και απολαυστικό μάθημα\, συνοδεία καφέ και κερασμάτων\, σε μια όμορφη\, φιλική ατμόσφαιρα.\n\n\n Προσφορά στα μέλη μας !\nΔήλωσε συμμετοχή. Οι θέσεις είναι περιορισμένες.\n\n\nΔες τον κόσμο με… άλλα χρώματα..\nΤμήμα Ζωγραφικής & Μικτών Τεχνικών\nΕλενα Πολυχρονιάδη\n\nΚυριακή 7 Δεκεμβρίου 2025 – ώρα: 16:00
URL:https://kalliniki.gr/event/dorean-seminario-to-chroma-sti-zoi-mas-kai-pos-to-ftiachnoume/
LOCATION:Πολυχώρος εκδηλώσεων Καλλινίκη\, Κισσάβου 18Α\, Βριλήσσια\, 15235
CATEGORIES:Ημερίδες
ATTACH;FMTTYPE=image/jpeg:https://kalliniki.gr/wp-content/uploads/2025/11/Το-χρώμα-στη-ζωή-μας.jpg
ORGANIZER;CN="%CE%A0%CE%BF%CE%BB%CE%B9%CF%84%CE%B9%CF%83%CF%84%CE%B9%CE%BA%CF%8C%CF%82 %CE%A3%CF%8D%CE%BB%CE%BB%CE%BF%CE%B3%CE%BF%CF%82 %CE%9A%CE%B1%CE%BB%CE%BB%CE%B9%CE%BD%CE%AF%CE%BA%CE%B7":MAILTO:syllogoskalliniki@gmail.com
END:VEVENT
END:VCALENDAR