BEGIN:VCALENDAR
VERSION:2.0
PRODID:-//Καλλινίκη - ECPv6.15.20//NONSGML v1.0//EN
CALSCALE:GREGORIAN
METHOD:PUBLISH
X-ORIGINAL-URL:https://kalliniki.gr
X-WR-CALDESC:Events for Καλλινίκη
REFRESH-INTERVAL;VALUE=DURATION:PT1H
X-Robots-Tag:noindex
X-PUBLISHED-TTL:PT1H
BEGIN:VTIMEZONE
TZID:Europe/Athens
BEGIN:DAYLIGHT
TZOFFSETFROM:+0200
TZOFFSETTO:+0300
TZNAME:EEST
DTSTART:20240331T010000
END:DAYLIGHT
BEGIN:STANDARD
TZOFFSETFROM:+0300
TZOFFSETTO:+0200
TZNAME:EET
DTSTART:20241027T010000
END:STANDARD
BEGIN:DAYLIGHT
TZOFFSETFROM:+0200
TZOFFSETTO:+0300
TZNAME:EEST
DTSTART:20250330T010000
END:DAYLIGHT
BEGIN:STANDARD
TZOFFSETFROM:+0300
TZOFFSETTO:+0200
TZNAME:EET
DTSTART:20251026T010000
END:STANDARD
BEGIN:DAYLIGHT
TZOFFSETFROM:+0200
TZOFFSETTO:+0300
TZNAME:EEST
DTSTART:20260329T010000
END:DAYLIGHT
BEGIN:STANDARD
TZOFFSETFROM:+0300
TZOFFSETTO:+0200
TZNAME:EET
DTSTART:20261025T010000
END:STANDARD
END:VTIMEZONE
BEGIN:VEVENT
DTSTART;TZID=Europe/Athens:20250109T203000
DTEND;TZID=Europe/Athens:20250109T213000
DTSTAMP:20260424T101051
CREATED:20240905T112801Z
LAST-MODIFIED:20250102T211149Z
UID:1407-1736454600-1736458200@kalliniki.gr
SUMMARY:Μαθήματα Yoga
DESCRIPTION:Μαθήματα Yoga με την Ελίζα.  H Yoga απευθύνεται σε όλους και μπορεί να μας ανοίξει δρόμους για την βελτίωση της φυσικής μας κατάστασης και των αντοχών μας\, να βοηθήσει στην γνώση του σώματος μας και γιατί όχι να διευκολύνει σε πολλούς τομείς την καθημερινότητα μας. Κι όλα αυτά μέσα από το παιχνίδι\, το γέλιο\, την όμορφη ατμόσφαιρα και την ηρεμία.. \nΕΝΑΡΞΗ: Πέμπτη 26/09/2024 και κάθε Πέμπτη 20:30 – 21:300
URL:https://kalliniki.gr/event/mathimata-yoga/
LOCATION:Πολυχώρος εκδηλώσεων Καλλινίκη\, Κισσάβου 18Α\, Βριλήσσια\, 15235
CATEGORIES:Εργαστήρια
ATTACH;FMTTYPE=image/jpeg:https://kalliniki.gr/wp-content/uploads/2024/09/Yoga_1.jpg
ORGANIZER;CN="%CE%A0%CE%BF%CE%BB%CE%B9%CF%84%CE%B9%CF%83%CF%84%CE%B9%CE%BA%CF%8C%CF%82 %CE%A3%CF%8D%CE%BB%CE%BB%CE%BF%CE%B3%CE%BF%CF%82 %CE%9A%CE%B1%CE%BB%CE%BB%CE%B9%CE%BD%CE%AF%CE%BA%CE%B7":MAILTO:syllogoskalliniki@gmail.com
END:VEVENT
END:VCALENDAR