BEGIN:VCALENDAR
VERSION:2.0
PRODID:-//Καλλινίκη - ECPv6.15.20//NONSGML v1.0//EN
CALSCALE:GREGORIAN
METHOD:PUBLISH
X-WR-CALNAME:Καλλινίκη
X-ORIGINAL-URL:https://kalliniki.gr
X-WR-CALDESC:Events for Καλλινίκη
REFRESH-INTERVAL;VALUE=DURATION:PT1H
X-Robots-Tag:noindex
X-PUBLISHED-TTL:PT1H
BEGIN:VTIMEZONE
TZID:Europe/Athens
BEGIN:DAYLIGHT
TZOFFSETFROM:+0200
TZOFFSETTO:+0300
TZNAME:EEST
DTSTART:20240331T010000
END:DAYLIGHT
BEGIN:STANDARD
TZOFFSETFROM:+0300
TZOFFSETTO:+0200
TZNAME:EET
DTSTART:20241027T010000
END:STANDARD
BEGIN:DAYLIGHT
TZOFFSETFROM:+0200
TZOFFSETTO:+0300
TZNAME:EEST
DTSTART:20250330T010000
END:DAYLIGHT
BEGIN:STANDARD
TZOFFSETFROM:+0300
TZOFFSETTO:+0200
TZNAME:EET
DTSTART:20251026T010000
END:STANDARD
BEGIN:DAYLIGHT
TZOFFSETFROM:+0200
TZOFFSETTO:+0300
TZNAME:EEST
DTSTART:20260329T010000
END:DAYLIGHT
BEGIN:STANDARD
TZOFFSETFROM:+0300
TZOFFSETTO:+0200
TZNAME:EET
DTSTART:20261025T010000
END:STANDARD
END:VTIMEZONE
BEGIN:VEVENT
DTSTART;VALUE=DATE:20250520
DTEND;VALUE=DATE:20250609
DTSTAMP:20260424T031730
CREATED:20250503T200726Z
LAST-MODIFIED:20250519T203658Z
UID:1790-1747699200-1749427199@kalliniki.gr
SUMMARY:Summer Camp 2025
DESCRIPTION:Όταν οι σχολικές αίθουσες κλείνουν τις πόρτες τους\, το summer camp στην ΚΑΛΛΙΝΙΚΗ ανοίγει τις δικές της για να υποδεχτεί τους μικρούς μας φίλους\, να ζήσουν μια νέα εμπειρία.. Οι δημιουργικές μας δραστηριότητες υπερβαίνουν τα στενά πλαίσια και προσφέρουμε εκπαιδευτικά οφέλη χωρίς άγχος για τα παιδιά\, με ασφάλεια συμβάλλοντας στην ευεξία τους. Εκπαιδευμένοι γυμναστές & παιδαγωγοί αλλά και ο σεφ μας Άλεξ\, θα δημιουργήσουν μια αξέχαστη εμπειρία για κάθε εβδομάδα. Ιδανική επιλογή με γκρουπ παιδιών έως 15 το ανώτερο. \nΔηλώστε συμμετοχή στο καλύτερο camp της πόλης..
URL:https://kalliniki.gr/event/summer-camp-2025/
LOCATION:Πολυχώρος εκδηλώσεων Καλλινίκη\, Κισσάβου 18Α\, Βριλήσσια\, 15235
CATEGORIES:Εργαστήρια
ATTACH;FMTTYPE=image/jpeg:https://kalliniki.gr/wp-content/uploads/2025/04/Summer-Camp_2025-2.jpg
ORGANIZER;CN="%CE%A0%CE%BF%CE%BB%CE%B9%CF%84%CE%B9%CF%83%CF%84%CE%B9%CE%BA%CF%8C%CF%82 %CE%A3%CF%8D%CE%BB%CE%BB%CE%BF%CE%B3%CE%BF%CF%82 %CE%9A%CE%B1%CE%BB%CE%BB%CE%B9%CE%BD%CE%AF%CE%BA%CE%B7":MAILTO:syllogoskalliniki@gmail.com
END:VEVENT
END:VCALENDAR