BEGIN:VCALENDAR
VERSION:2.0
PRODID:-//Καλλινίκη - ECPv6.15.20//NONSGML v1.0//EN
CALSCALE:GREGORIAN
METHOD:PUBLISH
X-ORIGINAL-URL:https://kalliniki.gr
X-WR-CALDESC:Events for Καλλινίκη
REFRESH-INTERVAL;VALUE=DURATION:PT1H
X-Robots-Tag:noindex
X-PUBLISHED-TTL:PT1H
BEGIN:VTIMEZONE
TZID:Europe/Athens
BEGIN:DAYLIGHT
TZOFFSETFROM:+0200
TZOFFSETTO:+0300
TZNAME:EEST
DTSTART:20250330T010000
END:DAYLIGHT
BEGIN:STANDARD
TZOFFSETFROM:+0300
TZOFFSETTO:+0200
TZNAME:EET
DTSTART:20251026T010000
END:STANDARD
BEGIN:DAYLIGHT
TZOFFSETFROM:+0200
TZOFFSETTO:+0300
TZNAME:EEST
DTSTART:20260329T010000
END:DAYLIGHT
BEGIN:STANDARD
TZOFFSETFROM:+0300
TZOFFSETTO:+0200
TZNAME:EET
DTSTART:20261025T010000
END:STANDARD
BEGIN:DAYLIGHT
TZOFFSETFROM:+0200
TZOFFSETTO:+0300
TZNAME:EEST
DTSTART:20270328T010000
END:DAYLIGHT
BEGIN:STANDARD
TZOFFSETFROM:+0300
TZOFFSETTO:+0200
TZNAME:EET
DTSTART:20271031T010000
END:STANDARD
END:VTIMEZONE
BEGIN:VEVENT
DTSTART;TZID=Europe/Athens:20260424T193000
DTEND;TZID=Europe/Athens:20260424T210000
DTSTAMP:20260425T144115
CREATED:20240903T130354Z
LAST-MODIFIED:20260423T113940Z
UID:1397-1777059000-1777064400@kalliniki.gr
SUMMARY:Ομάδα νοητικής ενδυνάμωσης
DESCRIPTION:Τα ΠΑΙΧΝΙΔΙΑ ΤΟΥ ΝΟΥ στην ΚΑΛΛΙΝΙΚΗ θα αρχίσουν την Παρασκευή 31 Οκτωβρίου στις 7.00 – 8.30 μ.μ. με την Δρ. Ευσταθία Βαλιάντζα-Αφτιά\, Μηχανικό Περιβάλλοντος και Νηπιαγωγό\, π. Επισκέπτρια Καθηγήτρια στο Πανεπιστήμιο Θεσσαλίας\, Μεταδιδακτορική ερευνήτρια Παιδαγωγικής ΤΕΑΠΗ/ΕΚΠΑ\, και συγγραφέα των βιβλίων: “Η Ενέργεια του Εγκεφάλου” και “Παιδαγωγική του Εγκεφάλου ή Παιδαγωγική της Χαράς”.\nΟι συναντήσεις απευθύνονται σε ενήλικες γονείς\, ή απλώς ενδιαφερόμενους οποιασδήποτε ηλικίας για ασκήσεις εγκεφάλου με όρους σύγχρονων Νευροεπιστημών.\nΗ φετινή σειρά συναντήσεων θα αφιερωθεί σε ΦΙΛΟΣΟΦΙΚΑ ΘΕΜΑΤΑ. Μετά την εκάστοτε παρουσίαση της εισηγήτριας\, θα ακολουθεί ΔΙΑΛΟΓΙΚΗ ΣΥΖΗΤΗΣΗ και σχετικά σχόλια και πληροφορίες με όρους Νευροεπιστημών του 21ου αιώνα. Η συνάντηση θα τελειώνει με ΤΡΑΓΟΥΔΙ της ομάδας κατά βούληση. \nΟι συναντήσεις θα πραγματοποιούνται φέτος μία φορά τον μήνα και το θέμα θα είναι γνωστό εκ των προτέρων.
URL:https://kalliniki.gr/event/omada-noitikis-endynamosis/
LOCATION:Πολυχώρος εκδηλώσεων Καλλινίκη\, Κισσάβου 18Α\, Βριλήσσια\, 15235
CATEGORIES:Εργαστήρια
ATTACH;FMTTYPE=image/jpeg:https://kalliniki.gr/wp-content/uploads/2024/09/Παιχνίδια-του-νου-2026Έγγραφο-A4.jpg
ORGANIZER;CN="%CE%A0%CE%BF%CE%BB%CE%B9%CF%84%CE%B9%CF%83%CF%84%CE%B9%CE%BA%CF%8C%CF%82 %CE%A3%CF%8D%CE%BB%CE%BB%CE%BF%CE%B3%CE%BF%CF%82 %CE%9A%CE%B1%CE%BB%CE%BB%CE%B9%CE%BD%CE%AF%CE%BA%CE%B7":MAILTO:syllogoskalliniki@gmail.com
END:VEVENT
BEGIN:VEVENT
DTSTART;TZID=Europe/Athens:20260425T090000
DTEND;TZID=Europe/Athens:20260425T133000
DTSTAMP:20260425T144115
CREATED:20240904T122531Z
LAST-MODIFIED:20260423T114055Z
UID:1400-1777107600-1777123800@kalliniki.gr
SUMMARY:Μαθήματα φωνητικής\, ορθοφωνίας & ερμηνείας
DESCRIPTION:Μαθήματα φωνητικής\, ορθοφωνίας & ερμηνείας με την Μαρίτα Χατζηδημητρίου -Κωνσταντινοπούλου\nΜουσικοσυνθέτρια- δασκάλα φωνητικής ορθοφωνίας & ερμηνείας. \nΔιδάσκεται μοντέρνο & λαϊκό τραγούδι. \nΑνακαλύψετε τις φυσικές σας δεξιότητες και ικανότητες και φτάστε σε αποτελέσματα που ποτέ δεν πιστεύατε ότι ήταν δυνατό.\nΒελτιώστε τον ήχο της φωνής σας στο τραγούδι και στην ομιλία. \nΚάθε Σάββατο 09:00 – 13:30
URL:https://kalliniki.gr/event/mathimata-fonitikis-orthofonias-ermineias/
LOCATION:Πολυχώρος εκδηλώσεων Καλλινίκη\, Κισσάβου 18Α\, Βριλήσσια\, 15235
CATEGORIES:Εργαστήρια
ATTACH;FMTTYPE=image/jpeg:https://kalliniki.gr/wp-content/uploads/2025/09/Μαθήματα-Φωνητικής-3.jpg
ORGANIZER;CN="%CE%A0%CE%BF%CE%BB%CE%B9%CF%84%CE%B9%CF%83%CF%84%CE%B9%CE%BA%CF%8C%CF%82 %CE%A3%CF%8D%CE%BB%CE%BB%CE%BF%CE%B3%CE%BF%CF%82 %CE%9A%CE%B1%CE%BB%CE%BB%CE%B9%CE%BD%CE%AF%CE%BA%CE%B7":MAILTO:syllogoskalliniki@gmail.com
END:VEVENT
BEGIN:VEVENT
DTSTART;TZID=Europe/Athens:20260425T101500
DTEND;TZID=Europe/Athens:20260425T120000
DTSTAMP:20260425T144115
CREATED:20240903T111631Z
LAST-MODIFIED:20260423T114021Z
UID:1380-1777112100-1777118400@kalliniki.gr
SUMMARY:Μαθήματα Αραβικών
DESCRIPTION:Μαθήματα Αραβικών για 2η χρονιά\, με τον καθηγητή Αραβικής γλώσσας κ. Γασσάν Αλ Φαντέλ. \nΚάθε Σάββατο 10:15 – 12:00 \n 
URL:https://kalliniki.gr/event/mathimata-aravikon/
LOCATION:Πολυχώρος εκδηλώσεων Καλλινίκη\, Κισσάβου 18Α\, Βριλήσσια\, 15235
CATEGORIES:Εργαστήρια
ATTACH;FMTTYPE=image/jpeg:https://kalliniki.gr/wp-content/uploads/2024/09/Μαθήματα-Αραβικών_2025.jpg
ORGANIZER;CN="%CE%A0%CE%BF%CE%BB%CE%B9%CF%84%CE%B9%CF%83%CF%84%CE%B9%CE%BA%CF%8C%CF%82 %CE%A3%CF%8D%CE%BB%CE%BB%CE%BF%CE%B3%CE%BF%CF%82 %CE%9A%CE%B1%CE%BB%CE%BB%CE%B9%CE%BD%CE%AF%CE%BA%CE%B7":MAILTO:syllogoskalliniki@gmail.com
END:VEVENT
BEGIN:VEVENT
DTSTART;TZID=Europe/Athens:20260425T180000
DTEND;TZID=Europe/Athens:20260425T190000
DTSTAMP:20260425T144115
CREATED:20260208T195454Z
LAST-MODIFIED:20260423T114211Z
UID:2117-1777140000-1777143600@kalliniki.gr
SUMMARY:Μαθήματα Latin χορών
DESCRIPTION:Με χαρά σας ανακοινώνουμε την έναρξη μαθημάτων χορών Latin στον σύλλογο μας με τον εξειδικευμένο δάσκαλο Βασίλη Τιμόλογο Βάσκεζ. Οι χοροί LATIN έχουν την καταγωγή τους στη Λατινική Αμερική. Τυπικοί χοροί LATIN είναι οι Salsa\, Bachata\, Cha-Cha\, Rumba κ.ά. \nΗ φιλοσοφία της διδασκαλίας βασίζεται: \n\nστη σωστή τεχνική με απλό και ευχάριστο τρόπο\nστη δημιουργία φιλικού και ομαδικού κλίματος\nστη σταδιακή εξέλιξη των μαθητών\nστη συμμετοχή σε εκδηλώσεις\, παρουσιάσεις και δράσεις του συλλόγου.\n\nΚάθε Σάββατο 18:00 – 19:00 \nΠληροφορίες – εγγραφές : 210 6139689 – 693 7254278
URL:https://kalliniki.gr/event/mathimata-latin-choron/
LOCATION:Πολυχώρος εκδηλώσεων Καλλινίκη\, Κισσάβου 18Α\, Βριλήσσια\, 15235
CATEGORIES:Εργαστήρια
ATTACH;FMTTYPE=image/jpeg:https://kalliniki.gr/wp-content/uploads/2026/02/Latin-Dance-Classes.jpg
ORGANIZER;CN="%CE%A0%CE%BF%CE%BB%CE%B9%CF%84%CE%B9%CF%83%CF%84%CE%B9%CE%BA%CF%8C%CF%82 %CE%A3%CF%8D%CE%BB%CE%BB%CE%BF%CE%B3%CE%BF%CF%82 %CE%9A%CE%B1%CE%BB%CE%BB%CE%B9%CE%BD%CE%AF%CE%BA%CE%B7":MAILTO:syllogoskalliniki@gmail.com
END:VEVENT
END:VCALENDAR