BEGIN:VCALENDAR
VERSION:2.0
PRODID:-//Καλλινίκη - ECPv6.15.20//NONSGML v1.0//EN
CALSCALE:GREGORIAN
METHOD:PUBLISH
X-ORIGINAL-URL:https://kalliniki.gr
X-WR-CALDESC:Events for Καλλινίκη
REFRESH-INTERVAL;VALUE=DURATION:PT1H
X-Robots-Tag:noindex
X-PUBLISHED-TTL:PT1H
BEGIN:VTIMEZONE
TZID:Europe/Athens
BEGIN:DAYLIGHT
TZOFFSETFROM:+0200
TZOFFSETTO:+0300
TZNAME:EEST
DTSTART:20230326T010000
END:DAYLIGHT
BEGIN:STANDARD
TZOFFSETFROM:+0300
TZOFFSETTO:+0200
TZNAME:EET
DTSTART:20231029T010000
END:STANDARD
BEGIN:DAYLIGHT
TZOFFSETFROM:+0200
TZOFFSETTO:+0300
TZNAME:EEST
DTSTART:20240331T010000
END:DAYLIGHT
BEGIN:STANDARD
TZOFFSETFROM:+0300
TZOFFSETTO:+0200
TZNAME:EET
DTSTART:20241027T010000
END:STANDARD
BEGIN:DAYLIGHT
TZOFFSETFROM:+0200
TZOFFSETTO:+0300
TZNAME:EEST
DTSTART:20250330T010000
END:DAYLIGHT
BEGIN:STANDARD
TZOFFSETFROM:+0300
TZOFFSETTO:+0200
TZNAME:EET
DTSTART:20251026T010000
END:STANDARD
BEGIN:DAYLIGHT
TZOFFSETFROM:+0200
TZOFFSETTO:+0300
TZNAME:EEST
DTSTART:20260329T010000
END:DAYLIGHT
BEGIN:STANDARD
TZOFFSETFROM:+0300
TZOFFSETTO:+0200
TZNAME:EET
DTSTART:20261025T010000
END:STANDARD
END:VTIMEZONE
BEGIN:VEVENT
DTSTART;TZID=Europe/Athens:20250525T090000
DTEND;TZID=Europe/Athens:20250525T120000
DTSTAMP:20260423T143055
CREATED:20250321T122341Z
LAST-MODIFIED:20250321T122341Z
UID:1737-1748163600-1748174400@kalliniki.gr
SUMMARY:Run-Bike-Care 2025
DESCRIPTION:Η ΚΑΛΛΙΝΙΚΗ σας καλεί να συμμετάσχετε : Την Κυριακή 25 Μαΐου 2025 και ώρα 09:00 πμ στο 5ο RUN BIKE CARE 2025 που διοργανώνει και φέτος για 5η συνεχή χρονιά ο Σύλλογος Καρκινοπαθών Κ.Ε.Φ.Ι. στο Ζάππειο.\nΣυμμετέχουμε σε αυτή την κορυφαία προσπάθεια που πραγματοποιείται με αφορμή την επερχόμενη Παγκόσμια Ημέρα Επιζώντων του Καρκίνου . Καλούμε μέλη\, φίλους και συνεργάτες μας που επιθυμούν να συμμετάσχουν\, να δηλώσουν τη συμμετοχή τους στο www.anticancerath.gr\n\n\nΕίναι ένας αγώνας δρόμου όπου χιλιάδες ποδηλάτες\, δρομείς και περιπατητές\, με κεντρικό μήνυμα «Τρέχουμε πιο γρήγορα από τον καρκίνο»\, με αφετηρία και τερματισμό\, την Αίγλη του Ζαππείου\, δηλώνουν έτοιμοι να πραγματοποιήσουν για 5η χρονιά\, μια ευχάριστη βόλτα στο κέντρο της Αθήνας.\nΕίναι μία ημέρα ευαισθητοποίησης του κόσμου για την προαγωγή της πρόληψης και της έγκαιρης διάγνωσης του καρκίνου \, μια ημέρα συγκίνησης\, και δυναμισμού\, για να τιμήσουμε τη μνήμη όσων νικήθηκαν και να γιορτάσουμε για όλους όσους νίκησαν τον καρκίνο.
URL:https://kalliniki.gr/event/run-bike-care-2025/
LOCATION:Ζάππειο Μέγαρο\, Βασ. Όλγας\, Αθήνα\, 10557\, Greece
CATEGORIES:Κοινωνική
ATTACH;FMTTYPE=image/jpeg:https://kalliniki.gr/wp-content/uploads/2025/03/runbikecare_2025.jpg
ORGANIZER;CN="%CE%A3%CF%8D%CE%BB%CE%BB%CE%BF%CE%B3%CE%BF%CF%82 %CE%9A%CE%B1%CF%81%CE%BA%CE%B9%CE%BD%CE%BF%CF%80%CE%B1%CE%B8%CF%8E%CE%BD %CE%95%CE%B8%CE%B5%CE%BB%CE%BF%CE%BD%CF%84%CF%8E%CE%BD %CE%A6%CE%AF%CE%BB%CF%89%CE%BD %CE%99%CE%B1%CF%84%CF%81%CF%8E%CE%BD '%CE%9A.%CE%95.%CE%A6.%CE%99.' %CE%91%CE%B8%CE%B7%CE%BD%CF%8E%CE%BD":MAILTO:info@anticancerath.gr
END:VEVENT
BEGIN:VEVENT
DTSTART;TZID=Europe/Athens:20250504T110000
DTEND;TZID=Europe/Athens:20250504T140000
DTSTAMP:20260423T143055
CREATED:20250502T125000Z
LAST-MODIFIED:20250502T125000Z
UID:1800-1746356400-1746367200@kalliniki.gr
SUMMARY:2η Γιορτή Αγάπης
DESCRIPTION:Σας προσκαλούμε στην 2η ΓΙΟΡΤΗ ΑΓΑΠΗΣ ΠΟΛΙΤΙΣΤΙΚΩΝ ΣΥΛΛΟΓΩΝ ΔΗΜΟΥ ΒΡΙΛΗΣΣΙΩΝ\n\n\nΟι Πολιτιστικοί σύλλογοι Βριλησσίων\, υπο την Αιγίδα του Δήμου Βριλησσίων ενώνουν τις δυνάμεις τους για καλό σκοπό και σας προσκαλούν στη «2η Γιορτή Αγάπης»που θα γίνει την ΚΥΡΙΑΚΗ 4/5/2025 στην πλατεία Ανάληψης στα Βριλήσσια.\nΗ γιορτή μας θα είναι πρωινή\, θα ξεκινήσει στις 11.00π.μ. και θα ολοκληρωθεί στις 14.00μ.μ..\nΣκοπός της εκδήλωσης είναι η ενίσχυση του ΚΟΙΝΩΝΙΚΟΥ ΠΑΝΤΟΠΩΛΕΙΟΥ της πόλης μας\, γνωρίζοντας την πολιτιστική παράδοση διαφόρων τόπων της χώρας μας \, είτε με τους παραδοσιακούς χορούς είτε με τοπικά κεράσματα.\n\n\nΗ είσοδος είναι ελεύθερη για όλους.\n\n\nΤα μέλη των συλλόγων αλλά και όλοι οι συμπολίτες μας μπορούν να φέρουν στον χώρο της εκδήλωσης τα παρακάτω είδη:\n\n\n*· ΣΑΜΠΟΥΑΝ\n\n\n· ΑΦΡΟΛΟΥΤΡΑ\n\n\n· ΟΔΟΝΤΟΚΡΕΜΕΣ\n\n\n· ΟΔΟΝΤΟΒΟΥΡΤΣΕΣ\n\n\n· ΚΡΕΜΟΣΑΠΟΥΝΑ*\n\n\nΌλα τα προσφερόμενα είδη θα μαζευτούν σε ένα σημείο που θα οριστεί στην πλατεία\, σε όχημα που θα διαθέσει ο Δήμος Βριλησσίων.\n\n\nΗ γιορτή θα πλαισιωθεί με πολιτιστικά δρώμενα των συλλόγων\, ώστε αυτή η συνάντηση να γίνει ένα αντάμωμα αγάπης των συμπολιτών μας.\n\n\nΣυμμετέχουν οι σύλλογοι :\n\n\nΒΡΑΧΟΣ ΒΡΙΛΗΣΣΟΥ\, ΒΡΙΛΗΣΣΟΣ ΦΥΣΙΟΛΑΤΡΙΚΗ ΚΙΝΗΣΗ\, ΕΛΕΥΘΕΡΗ ΕΚΦΡΑΣΗ ΓΥΝΑΙΚΩΝ ΒΡΙΛΗΣΣΙΩΝ\, ΕΝΩΣΗ ΓΟΝΕΩΝ ΚΑΙ ΚΗΔΕΜΟΝΩΝ ΒΡΙΛΗΣΣΙΩΝ\, ΕΝΩΣΗ ΚΡΗΤΩΝ ΒΡΙΛΗΣΣΙΩΝ\, ΕΝΩΣΗ ΠΟΝΤΙΩΝ “ΟΙ ΤΡΑΝΤΕΛΛΗΝΕΣ”\, Ε.Ε.Φ.Α.Σ. ΑΝΩ ΒΡΙΛΗΣΣΙΩΝ «Η ΜΕΤΑΜΟΡΦΩΣΗ ΤΟΥ ΣΩΤΗΡΟΣ»\, ΣΥΛΛΟΓΟΣ ΕΘΕΛΟΝΤΩΝ ΑΙΜΟΔΟΤΩΝ-“Η ΑΛΛΗΛΕΓΓΥΗ”\,\n\n\nΣΥΛΛΟΓΟΣ ΕΛΛΗΝΟΚΥΠΡΙΩΝ\, ΣΥΛΛΟΓΟΣ ΗΠΕΙΡΩΤΩΝ ΒΡΙΛΗΣΣΙΩΝ “ΠΥΡΡΟΣ”\, ΣΥΛΛΟΓΟΣ ΠΟΛΙΤΙΣΤΙΚΟΣ “ΚΑΛΛΙΝΙΚΗ” \,\nΣΥΛΛΟΓΟΣ ΜΑΚΕΔΟΝΩΝ-ΘΡΑΚΙΩΤΩΝ ΒΟΡΕΙΟΑΝΑΤΟΛΙΚΗΣ ΑΤΤΙΚΗΣ ΔΗΜΟΥ ΒΡΙΛΗΣΣΙΩΝ\, ΣΥΛΛΟΓΟΣ ΝΗΣΩΝ ΒΟΡΕΙΟΥ ΑΙΓΑΙΟΥ\, ΣΥΝΔΕΣΜΟΣ ΑΡΚΑΔΩΝ ΒΡΙΛΗΣΣΙΩΝ\, ΠΑΝΑΘΗΝΑΪΚΗ ΟΡΓΑΝΩΣΗ ΓΥΝΑΙΚΩΝ ΠΑΡΑΡΤΗΜΑ ΒΡΙΛΗΣΣΙΩΝ\, 4ο ΣΥΣΤΗΜΑ ΠΡΟΣΚΟΠΩΝ ΒΡΙΛΗΣΣΙΩΝ\n\n\nΈναρξη 11:00π.μ.\n\n\n11:00 Καλωσόρισμα από την Πρόεδρο του ΣΥΛΛΟΓΟΥ ΕΛΛΗΝΟΚΥΠΡΙΩΝ Μαριάνθη Χατζηκωνσταντίνου. Σύντομή ομιλία για το νόημα της αγάπης και του εθελοντισμού.\n\n\n11:15 Εργαστήρι ΑΝΕΜΟΥΡΙΩΝ για παιδιά (κρεμαστή κατασκευή για τον αέρα\, από το εργαστήρι ART & CRAFT του ΒΡΑΧΟΥ ΒΡΙΛΗΣΣΟΥ) – Σκάκι (με αγώνα επίδειξης “ΣΥΜΟΥΛΤΑΝΕ” από τον Ε.Ε.Φ.Α.Σ ΆΝΩ ΒΡΙΛΗΣΣΙΩΝ – Μικρό Δρώμενο και κατασκευή καρδιάς για παιδιά από το ΣΥΛΛΟΓΟ ΕΘΕΛΟΝΤΩΝ ΑΙΜΟΔΟΤΩΝ “Η ΑΛΛΗΛΕΓΓΥΗ” – Εργαστήρι για παιδιά (με θέμα την Κύπρο από το ΣΥΛΛΟΓΟ ΕΛΛΗΝΟΚΥΠΡΙΩΝ ΒΡΙΛΗΣΣΙΩΝ – Εργαστήρι πυρογραφίας\, κατασκευών και κωδικοποίησης από το 4ο ΣΥΣΤΗΜΑ ΠΡΟΣΚΟΠΩΝ ΒΡΙΛΗΣΣΙΩΝ.\n\n\n– Όλα τα Εργαστήρια είναι με *ΔΩΡΕΑΝ ΣΥΜΜΕΤΟΧΗ*.\n\n\n12:00 Χαιρετισμός Δημάρχου και Αντιδημάρχου Κοινωνικής Πολιτικής και Πρωτοβάθμιας Υγείας. 12:15 *ΧΟΡΕΥΤΙΚΑ ΤΩΝ ΣΥΛΛΟΓΩΝ*\n\n\n– Χορευτικό (ΒΡΙΛΗΣΣΟΣ ΦΥΣΙΟΛΑΤΡΙΚΗ ΚΙΝΗΣΗ) – Χορευτικό (ΈΝΩΣΗ ΚΡΗΤΩΝ) – Χορευτικό (ΣΥΛΛΟΓΟΣ ΗΠΕΙΡΩΤΩΝ “ΠΥΡΡΟΣ” – Χορευτικό (ΣΥΛΛΟΓΟΣ ΜΑΚΕΔΟΝΩΝ-ΘΡΑΚΙΩΤΩΝ ΒΟΡΕΙΟΑΝΑΤΟΛΙΚΗΣ ΑΤΤΙΚΗΣ ΔΗΜΟΥ ΒΡΙΛΗΣΣΙΩΝ)\n\n\n– Χορευτικό (ΣΥΛΛΟΓΟΣ ΝΗΣΩΝ ΒΟΡΕΙΟΥ ΑΙΓΑΙΟΥ) – Χορευτικό (ΣΥΛΛΟΓΟΣ ΚΑΛΛΙΝΙΚΗ)\n\n\n*ΚΕΡΑΣΜΑΤΑ*\n\n\nΒΡΙΛΗΣΣΟΣ ΦΥΣΙΟΛΑΤΡΙΚΗ ΚΙΝΗΣΗ\n\n\nΕΛΕΥΘΕΡΗ ΕΚΦΡΑΣΗ ΓΥΝΑΙΚΩΝ ΒΡΙΛΗΣΣΙΩΝ\n\n\nΕΝΩΣΗ ΚΡΗΤΩΝ ΒΡΙΛΗΣΣΙΩΝ (Τσίπουρο\, τσάι και βότανα της Κρήτης) ΕΝΩΣΗ ΠΟΝΤΙΩΝ “ΟΙ ΤΡΑΝΤΕΛΛΗΝΕΣ” (Παραδοσιακά Εδέσματα και Ποτά)\n\n\nΣΥΛΛΟΓΟΣ ΕΛΛΗΝΟΚΥΠΡΙΩΝ\n\n\nΣΥΛΛΟΓΟΣ ΗΠΕΙΡΩΤΩΝ ΒΡΙΛΗΣΣΙΩΝ “ΠΥΡΡΟΣ” (Λουκούμια και τσίπουρο) ΣΥΛΛΟΓΟΣ ΜΑΚΕΔΟΝΩΝ-ΘΡΑΚΙΩΤΩΝ ΒΟΡΕΙΟΑΝΑΤΟΛΙΚΗΣ ΑΤΤΙΚΗΣ ΔΗΜΟΥ ΒΡΙΛΗΣΣΙΩΝ (Ακανέδες Σερρών και καβουρμά Θράκης)\n\n\nΣΥΝΔΕΣΜΟΣ ΑΡΚΑΔΩΝ ΒΡΙΛΗΣΣΙΩΝ\n\n\nΠΑΝΑΘΗΝΑΪΚΗ ΟΡΓΑΝΩΣΗ ΓΥΝΑΙΚΩΝ ΠΑΡΑΡΤΗΜΑ ΒΡΙΛΗΣΣΙΩΝ\n\n\nΚατά την διάρκεια της γιορτής οι συμμετέχοντες σύλλογοι θα ενημερώνουν τους συμπολίτες μας για τις δράσεις και το πρόγραμμα τους\n\n\nΣας περιμένουμε!!!
URL:https://kalliniki.gr/event/2i-giorti-agapis/
LOCATION:Πλατεία Αναλήψεως\, Πλατεία Αναλήψεως\, Βριλήσσια\, 15235
CATEGORIES:Κοινωνική
ATTACH;FMTTYPE=image/jpeg:https://kalliniki.gr/wp-content/uploads/2025/05/2η-Γιορτή-Αγάπης-3.jpg
ORGANIZER;CN="%CE%94%CE%AE%CE%BC%CE%BF%CF%82 %CE%92%CF%81%CE%B9%CE%BB%CE%B7%CF%83%CF%83%CE%AF%CF%89%CE%BD":MAILTO:info@vrilissia.gr
END:VEVENT
BEGIN:VEVENT
DTSTART;TZID=Europe/Athens:20250216T120000
DTEND;TZID=Europe/Athens:20250216T130000
DTSTAMP:20260423T143055
CREATED:20240417T160542Z
LAST-MODIFIED:20250128T130140Z
UID:177-1739707200-1739710800@kalliniki.gr
SUMMARY:Μαθήματα Α' Βοηθειών
DESCRIPTION:Δωρεάν για όλους μαθήματα Α’ Βοηθειών & Κάρπα από τους Σαμαρείτες και τον Ερυθρό Σταυρό
URL:https://kalliniki.gr/event/mathimata-a-voitheion/
LOCATION:Πολυχώρος εκδηλώσεων Καλλινίκη\, Κισσάβου 18Α\, Βριλήσσια\, 15235
CATEGORIES:Κοινωνική
ATTACH;FMTTYPE=image/jpeg:https://kalliniki.gr/wp-content/uploads/2025/01/Αντίγραφο-του-ΑΒοήθειες.jpg
ORGANIZER;CN="%CE%A0%CE%BF%CE%BB%CE%B9%CF%84%CE%B9%CF%83%CF%84%CE%B9%CE%BA%CF%8C%CF%82 %CE%A3%CF%8D%CE%BB%CE%BB%CE%BF%CE%B3%CE%BF%CF%82 %CE%9A%CE%B1%CE%BB%CE%BB%CE%B9%CE%BD%CE%AF%CE%BA%CE%B7":MAILTO:syllogoskalliniki@gmail.com
END:VEVENT
BEGIN:VEVENT
DTSTART;TZID=Europe/Athens:20241102T203000
DTEND;TZID=Europe/Athens:20241102T233000
DTSTAMP:20260423T143055
CREATED:20241009T072504Z
LAST-MODIFIED:20241126T125512Z
UID:1532-1730579400-1730590200@kalliniki.gr
SUMMARY:...όπως παλιά
DESCRIPTION:Ελάτε να περάσουμε ένα όμορφο Σαββατόβραδο όπως παλιά … με ποτό και μουσική με την Αστέρω Χριστοφίδου
URL:https://kalliniki.gr/event/vradia-opos-palia/
LOCATION:Πολυχώρος εκδηλώσεων Καλλινίκη\, Κισσάβου 18Α\, Βριλήσσια\, 15235
CATEGORIES:Κοινωνική
ATTACH;FMTTYPE=image/jpeg:https://kalliniki.gr/wp-content/uploads/2024/10/όπως-παλιά-Ανάρτηση-Facebook.jpg
ORGANIZER;CN="%CE%A0%CE%BF%CE%BB%CE%B9%CF%84%CE%B9%CF%83%CF%84%CE%B9%CE%BA%CF%8C%CF%82 %CE%A3%CF%8D%CE%BB%CE%BB%CE%BF%CE%B3%CE%BF%CF%82 %CE%9A%CE%B1%CE%BB%CE%BB%CE%B9%CE%BD%CE%AF%CE%BA%CE%B7":MAILTO:syllogoskalliniki@gmail.com
END:VEVENT
BEGIN:VEVENT
DTSTART;TZID=Europe/Athens:20240407T110000
DTEND;TZID=Europe/Athens:20240407T160000
DTSTAMP:20260423T143055
CREATED:20240417T162500Z
LAST-MODIFIED:20240501T190537Z
UID:181-1712487600-1712505600@kalliniki.gr
SUMMARY:Ημέρα Υιοθεσίας
DESCRIPTION:Μια διαφορετική εκδήλωση με σεβασμό στις οικογένειες και στους 4ποδους φίλους μας. Ελάτε να γνωρίσετε αυτά τα υπέροχα πλάσματα που θα σας χαρίσουν την αγάπη τους και την ευγνωμοσύνη τους για πάντα. Η συντροφιά τους το καλύτερο δώρο. Διαβάστε το διαμορφωμένο πρόγραμμα της εκδήλωσης μας που δημιουργήθηκε με πολύ φροντίδα\, σεβασμό\, επαγγελματισμό και ενδιαφέρον και τι περιλαμβάνει : \nΓνωριμία με τα αδέσποτα προς υιοθεσία από ειδικούς εθελοντές και την ομάδα Αλληλεγγύη στα Αδέσποτα – Solidarity for Stray Animals \nΗμερίδα με διαδραστικές ομιλίες από κτηνίατρο και θετικούς εκπαιδευτές για όλα όσα θα θέλατε να γνωρίζετε για την υιοθεσία \nΚύκλος παιχνιδιού και ζωγραφικής εκπαιδευτικού χαρακτήρα για τους μικρούς μας φίλους με θέμα τα αδέσποτα στον εξωτερικό χώρο του πάρκου. \nΔίνουμε ευκαιρία στην ζωή σε έναν “ορφανό” σκύλο που βρίσκεται σε ανάγκη. Εμείς προσπαθούμε μέσα από την ημέρα υιοθεσίας\, να δώσουμε τη δυνατότητα να βρείτε τον παντοτινό σας φίλο. \nΕπιθυμία όλων μας μία υπεύθυνη και επιτυχημένη υιοθεσία. \nΓι’ αυτό: \nπροσφέρουμε κύκλο εκπαίδευσης 10 ομαδικών μαθημάτων για όλα τα αδέσποτα που θα υιοθετηθούν και τους ιδιοκτήτες τους\, με συμβολική οικονομική συμμετοχή μόνο για 2 μαθήματα \nΚάθε υιοθετημένο σκυλάκι θα έχει δωρεάν περιποίηση στο χώρο σας από την groomer Βασιλική Μαυρίδου! \nΣας περιμένουμε
URL:https://kalliniki.gr/event/imera-yiothesias/
LOCATION:Πάρκο “Μίκης Θεοδωράκης”\, Π.Μπακογιάννη 38-42\, Βριλλήσια\, 15235\, Ελλάδα
CATEGORIES:Κοινωνική
ATTACH;FMTTYPE=image/png:https://kalliniki.gr/wp-content/uploads/2024/04/Ημέρα-Υιοθεσίας.png
ORGANIZER;CN="%CE%A0%CE%BF%CE%BB%CE%B9%CF%84%CE%B9%CF%83%CF%84%CE%B9%CE%BA%CF%8C%CF%82 %CE%A3%CF%8D%CE%BB%CE%BB%CE%BF%CE%B3%CE%BF%CF%82 %CE%9A%CE%B1%CE%BB%CE%BB%CE%B9%CE%BD%CE%AF%CE%BA%CE%B7":MAILTO:syllogoskalliniki@gmail.com
END:VEVENT
END:VCALENDAR