BEGIN:VCALENDAR
VERSION:2.0
PRODID:-//Καλλινίκη - ECPv6.15.20//NONSGML v1.0//EN
CALSCALE:GREGORIAN
METHOD:PUBLISH
X-ORIGINAL-URL:https://kalliniki.gr
X-WR-CALDESC:Events for Καλλινίκη
REFRESH-INTERVAL;VALUE=DURATION:PT1H
X-Robots-Tag:noindex
X-PUBLISHED-TTL:PT1H
BEGIN:VTIMEZONE
TZID:Europe/Athens
BEGIN:DAYLIGHT
TZOFFSETFROM:+0200
TZOFFSETTO:+0300
TZNAME:EEST
DTSTART:20230326T010000
END:DAYLIGHT
BEGIN:STANDARD
TZOFFSETFROM:+0300
TZOFFSETTO:+0200
TZNAME:EET
DTSTART:20231029T010000
END:STANDARD
BEGIN:DAYLIGHT
TZOFFSETFROM:+0200
TZOFFSETTO:+0300
TZNAME:EEST
DTSTART:20240331T010000
END:DAYLIGHT
BEGIN:STANDARD
TZOFFSETFROM:+0300
TZOFFSETTO:+0200
TZNAME:EET
DTSTART:20241027T010000
END:STANDARD
BEGIN:DAYLIGHT
TZOFFSETFROM:+0200
TZOFFSETTO:+0300
TZNAME:EEST
DTSTART:20250330T010000
END:DAYLIGHT
BEGIN:STANDARD
TZOFFSETFROM:+0300
TZOFFSETTO:+0200
TZNAME:EET
DTSTART:20251026T010000
END:STANDARD
END:VTIMEZONE
BEGIN:VEVENT
DTSTART;TZID=Europe/Athens:20240618T200000
DTEND;TZID=Europe/Athens:20240618T210000
DTSTAMP:20260423T115042
CREATED:20240611T110241Z
LAST-MODIFIED:20240707T215108Z
UID:693-1718740800-1718744400@kalliniki.gr
SUMMARY:"Ολυμπιακό Ιδεώδες" - Νίκη Μπακογιάννη
DESCRIPTION:Η επίτιμη Πρόεδρος του συλλόγου μας\, η Ολυμπιονίκης Νίκη Μπακογιάννη\, συμπολίτισσα μας θα μιλήσει για τους Ολυμπιακούς Αγώνες και την βιωσιμότητα σε εκδήλωση του Δήμου μας .Είστε όλοι καλεσμένοι.
URL:https://kalliniki.gr/event/olybiako-ideodes-niki-bakogianni/
LOCATION:Πάρκο “Μίκης Θεοδωράκης”\, Π.Μπακογιάννη 38-42\, Βριλλήσια\, 15235\, Ελλάδα
CATEGORIES:Ομιλία
ATTACH;FMTTYPE=image/jpeg:https://kalliniki.gr/wp-content/uploads/2024/06/Μακογιάννη.jpg
ORGANIZER;CN="%CE%94%CE%AE%CE%BC%CE%BF%CF%82 %CE%92%CF%81%CE%B9%CE%BB%CE%B7%CF%83%CF%83%CE%AF%CF%89%CE%BD - %CE%91%CE%BD%CF%84%CE%B9%CE%B4%CE%B7%CE%BC%CE%B1%CF%81%CF%87%CE%AF%CE%B1 %CE%A0%CE%B1%CE%B9%CE%B4%CE%B5%CE%AF%CE%B1%CF%82%2C %CE%94%CE%B9%CE%B1 %CE%92%CE%AF%CE%BF%CF%85 %CE%9C%CE%AC%CE%B8%CE%B7%CF%83%CE%B7%CF%82 & %CE%9D%CE%AD%CE%B1%CF%82 %CE%93%CE%B5%CE%BD%CE%B9%CE%AC%CF%82":MAILTO:ant.paideias@vrilissia.gr
END:VEVENT
BEGIN:VEVENT
DTSTART;TZID=Europe/Athens:20240513T193000
DTEND;TZID=Europe/Athens:20240513T203000
DTSTAMP:20260423T115042
CREATED:20240502T070931Z
LAST-MODIFIED:20240603T133946Z
UID:423-1715628600-1715632200@kalliniki.gr
SUMMARY:Στέφανος Ξενάκης: "10 Φωτογραφίες - 10 Ιστορίες"
DESCRIPTION:Ο Πολιτιστικός Σύλλογος Καλλινίκη σε συνεργασία με την Key Books σας προσκαλούν στην ομιλία του Στέφανου Ξενάκη με τίτλο “10 Φωτογραφίες – 10 Ιστορίες”
URL:https://kalliniki.gr/event/stefanos-xenakis-10-fotografies-10-istories/
LOCATION:Πολυχώρος εκδηλώσεων Καλλινίκη\, Κισσάβου 18Α\, Βριλήσσια\, 15235
CATEGORIES:Ομιλία
ATTACH;FMTTYPE=image/jpeg:https://kalliniki.gr/wp-content/uploads/2024/05/XENAKIS_creatives_Vrilissia24_.jpg
ORGANIZER;CN="%CE%A0%CE%BF%CE%BB%CE%B9%CF%84%CE%B9%CF%83%CF%84%CE%B9%CE%BA%CF%8C%CF%82 %CE%A3%CF%8D%CE%BB%CE%BB%CE%BF%CE%B3%CE%BF%CF%82 %CE%9A%CE%B1%CE%BB%CE%BB%CE%B9%CE%BD%CE%AF%CE%BA%CE%B7":MAILTO:syllogoskalliniki@gmail.com
END:VEVENT
END:VCALENDAR