BEGIN:VCALENDAR
VERSION:2.0
PRODID:-//Καλλινίκη - ECPv6.15.20//NONSGML v1.0//EN
CALSCALE:GREGORIAN
METHOD:PUBLISH
X-WR-CALNAME:Καλλινίκη
X-ORIGINAL-URL:https://kalliniki.gr
X-WR-CALDESC:Events for Καλλινίκη
REFRESH-INTERVAL;VALUE=DURATION:PT1H
X-Robots-Tag:noindex
X-PUBLISHED-TTL:PT1H
BEGIN:VTIMEZONE
TZID:Europe/Athens
BEGIN:DAYLIGHT
TZOFFSETFROM:+0200
TZOFFSETTO:+0300
TZNAME:EEST
DTSTART:20250330T010000
END:DAYLIGHT
BEGIN:STANDARD
TZOFFSETFROM:+0300
TZOFFSETTO:+0200
TZNAME:EET
DTSTART:20251026T010000
END:STANDARD
BEGIN:DAYLIGHT
TZOFFSETFROM:+0200
TZOFFSETTO:+0300
TZNAME:EEST
DTSTART:20260329T010000
END:DAYLIGHT
BEGIN:STANDARD
TZOFFSETFROM:+0300
TZOFFSETTO:+0200
TZNAME:EET
DTSTART:20261025T010000
END:STANDARD
BEGIN:DAYLIGHT
TZOFFSETFROM:+0200
TZOFFSETTO:+0300
TZNAME:EEST
DTSTART:20270328T010000
END:DAYLIGHT
BEGIN:STANDARD
TZOFFSETFROM:+0300
TZOFFSETTO:+0200
TZNAME:EET
DTSTART:20271031T010000
END:STANDARD
END:VTIMEZONE
BEGIN:VEVENT
DTSTART;TZID=Europe/Athens:20260327T190000
DTEND;TZID=Europe/Athens:20260327T210000
DTSTAMP:20260420T012803
CREATED:20240903T130354Z
LAST-MODIFIED:20260310T071451Z
UID:1397-1774638000-1774645200@kalliniki.gr
SUMMARY:Ομάδα νοητικής ενδυνάμωσης
DESCRIPTION:Τα ΠΑΙΧΝΙΔΙΑ ΤΟΥ ΝΟΥ στην ΚΑΛΛΙΝΙΚΗ θα αρχίσουν την Παρασκευή 31 Οκτωβρίου στις 7.00 – 8.30 μ.μ. με την Δρ. Ευσταθία Βαλιάντζα-Αφτιά\, Μηχανικό Περιβάλλοντος και Νηπιαγωγό\, π. Επισκέπτρια Καθηγήτρια στο Πανεπιστήμιο Θεσσαλίας\, Μεταδιδακτορική ερευνήτρια Παιδαγωγικής ΤΕΑΠΗ/ΕΚΠΑ\, και συγγραφέα των βιβλίων: “Η Ενέργεια του Εγκεφάλου” και “Παιδαγωγική του Εγκεφάλου ή Παιδαγωγική της Χαράς”.\nΟι συναντήσεις απευθύνονται σε ενήλικες γονείς\, ή απλώς ενδιαφερόμενους οποιασδήποτε ηλικίας για ασκήσεις εγκεφάλου με όρους σύγχρονων Νευροεπιστημών.\nΗ φετινή σειρά συναντήσεων θα αφιερωθεί σε ΦΙΛΟΣΟΦΙΚΑ ΘΕΜΑΤΑ. Μετά την εκάστοτε παρουσίαση της εισηγήτριας\, θα ακολουθεί ΔΙΑΛΟΓΙΚΗ ΣΥΖΗΤΗΣΗ και σχετικά σχόλια και πληροφορίες με όρους Νευροεπιστημών του 21ου αιώνα. Η συνάντηση θα τελειώνει με ΤΡΑΓΟΥΔΙ της ομάδας κατά βούληση. \nΟι συναντήσεις θα πραγματοποιούνται φέτος μία φορά τον μήνα και το θέμα θα είναι γνωστό εκ των προτέρων.
URL:https://kalliniki.gr/event/omada-noitikis-endynamosis/
LOCATION:Πολυχώρος εκδηλώσεων Καλλινίκη\, Κισσάβου 18Α\, Βριλήσσια\, 15235
CATEGORIES:Εργαστήρια
ATTACH;FMTTYPE=image/jpeg:https://kalliniki.gr/wp-content/uploads/2024/09/Παιχνίδια-του-νου-2026Έγγραφο-A4.jpg
ORGANIZER;CN="%CE%A0%CE%BF%CE%BB%CE%B9%CF%84%CE%B9%CF%83%CF%84%CE%B9%CE%BA%CF%8C%CF%82 %CE%A3%CF%8D%CE%BB%CE%BB%CE%BF%CE%B3%CE%BF%CF%82 %CE%9A%CE%B1%CE%BB%CE%BB%CE%B9%CE%BD%CE%AF%CE%BA%CE%B7":MAILTO:syllogoskalliniki@gmail.com
END:VEVENT
BEGIN:VEVENT
DTSTART;TZID=Europe/Athens:20260328T200000
DTEND;TZID=Europe/Athens:20260328T223000
DTSTAMP:20260420T012803
CREATED:20260305T172758Z
LAST-MODIFIED:20260305T172758Z
UID:2157-1774728000-1774737000@kalliniki.gr
SUMMARY:Θέατρο Νους "Η Ανάστασις"
DESCRIPTION:Ο Σύλλογος Βριλησσίων Καλλινίκη έκλεισε εισιτήρια για την παράσταση «Η Ανάστασις» του Λέοντος Τολστόι στις 28 Μαρτίου 2026.\nΤιμή εισιτηρίου 10€.\nΜε μεταφορά πούλμαν +7€\n\n\nΣημείωμα σκηνοθέτη Βασίλη Τριανταφύλλου για το έργο:\nΗ ανάσταση είναι μια τομή πάνω στο σώμα της κοινωνίας. Ο Τολστόι απογυμνώνει ένα σύστημα που λειτουργεί υπέρ των λίγων και εις βάρος των πολλών\, κι αυτό είναι το βασικό σημείο από το οποίο ξεκινά η παράστασή μας. Ο Νέχλιουντοφ και η Κατιούσα δεν είναι μόνο δύο άνθρωποι με κοινό παρελθόν είναι δύο διαφορετικές θέσεις μέσα σε μια κοινωνική μηχανή που μοιράζει τη μοίρα των ανθρώπων ταξικά\, ασύμμετρα\, άδικα.\n\n\nΟ Νέχλιουντοφ κουβαλά πάνω του την αόρατη ασπίδα της τάξης του\, η οποία του επέτρεψε να προχωρήσει χωρίς συνέπειες. Η συνειδητοποίησή του δεν αφορά μόνο την ατομική ευθύνη\, αλλά την ανακάλυψη ενός συστήματος που παράγει ενοχές για τους από κάτω και ατιμωρησία για τους από πάνω. Από την άλλη η πορεία της Κατιούσας μέσα από την αδικία είναι η πιο καθαρή καταγραφή της ταξικής βίας του έργου.\n\n\nΤο ενδιαφέρον μου στρέφεται στο ότι ένας ολόκληρος κόσμος χτίζεται πάνω σε θεσμούς που υποτίθεται πως απονέμουν δικαιοσύνη\, αλλά στην πραγματικότητα συντηρούν την ανισότητα. Πόσο μάλλον όταν ένα σύστημα μπορεί να είναι απολύτως νόμιμο και ταυτόχρονα βαθιά άδικο.\n\n\nΗ «Ανάσταση» εδώ δεν είναι θρησκευτική ούτε ατομικιστική. Είναι η ανάγκη να σπάσει ο φαύλος κύκλος της κοινωνικής παραίτησης. . Είναι το αίτημα για έναν κόσμο όπου ο άνθρωπος δεν θα ορίζεται από τη θέση του στην πυραμίδα\, αλλά από την αξία του.\n\n\nΚαι σε αυτό το αίτημα\, το έργο μοιάζει πιο επίκαιρο από ποτέ – γιατί η αδικία μπορεί να είναι άχρονη\, αλλά η αντίσταση σε αυτήν είναι πάντα παρούσα.”\nΣτον ρόλο του Αντιεισαγγελέα -Βαρόνου ο δάσκαλος μας στην θεατρική ομάδα 2: Αλέξανδρος Δαβιλάς\nΜην το χάσετε!!!\n\nΤηλ κράτησης 210-6139689 – 6937254278
URL:https://kalliniki.gr/event/theatro-nous-i-anastasis/
CATEGORIES:Θέατρο
ATTACH;FMTTYPE=image/jpeg:https://kalliniki.gr/wp-content/uploads/2026/03/Η-Αναστασις.jpg
END:VEVENT
BEGIN:VEVENT
DTSTART;TZID=Europe/Athens:20260406T170000
DTEND;TZID=Europe/Athens:20260406T193000
DTSTAMP:20260420T012803
CREATED:20240903T120444Z
LAST-MODIFIED:20260402T184811Z
UID:1386-1775494800-1775503800@kalliniki.gr
SUMMARY:Μαθήματα πιάνου
DESCRIPTION:Ο Σύλλογος “Καλλινίκη” δίνει την ευκαιρία σε μικρούς και μεγάλους να βιώσουν την ευεργετική επίδραση της μουσικής με στόχο να αγαπήσουν το ανεκτίμητο δώρο της.  Η Καθηγήτριες πιάνου ΖΑΦΕΙΡΙΑ ΚΑΛΟΥΔΗ και ΚΑΤΕΡΙΝΑ ΦΙΛΛΙΠΠΑ παραδίδουν μαθήματα στον πολυχώρο πολιτισμού της Καλλινίκης. \nΚάθε Δευτέρα\, Τρίτη και Τετάρτη από ώρα 16:45
URL:https://kalliniki.gr/event/mathimata-pianou/
LOCATION:Πολυχώρος εκδηλώσεων Καλλινίκη\, Κισσάβου 18Α\, Βριλήσσια\, 15235
CATEGORIES:Εργαστήρια
ATTACH;FMTTYPE=image/jpeg:https://kalliniki.gr/wp-content/uploads/2025/09/Μαθήματα-πιάνου_2025.jpg
ORGANIZER;CN="%CE%A0%CE%BF%CE%BB%CE%B9%CF%84%CE%B9%CF%83%CF%84%CE%B9%CE%BA%CF%8C%CF%82 %CE%A3%CF%8D%CE%BB%CE%BB%CE%BF%CE%B3%CE%BF%CF%82 %CE%9A%CE%B1%CE%BB%CE%BB%CE%B9%CE%BD%CE%AF%CE%BA%CE%B7":MAILTO:syllogoskalliniki@gmail.com
END:VEVENT
BEGIN:VEVENT
DTSTART;TZID=Europe/Athens:20260407T170000
DTEND;TZID=Europe/Athens:20260407T200000
DTSTAMP:20260420T012803
CREATED:20240903T112944Z
LAST-MODIFIED:20260402T184914Z
UID:1383-1775581200-1775592000@kalliniki.gr
SUMMARY:Εργαστήριο ζωγραφικής και μικτών τεχνικών – αναπαλαίωση επίπλων
DESCRIPTION:Εργαστήριο ζωγραφική και μικτών τεχνικών – αναπαλαίωση επίπλων Τρίτη με Παρασκευή\, πρωί και απόγευμα\,  για μικρούς και μεγάλους \, με την ζωγράφο κα ‘Ελενα Πολυχρονιάδη. \nΜαθήματα ζωγραφικής για μικρούς και μεγάλους: \n*Τμήματα ενηλίκων\n*Τμήματα ανηλίκων\n*Τμήμα αναπαλαίωσης επίπλων και μεικτών τεχνικών για ενήλικες \nΚάθε Τρίτη με Παρασκευή\, πρωί και απόγευμα
URL:https://kalliniki.gr/event/ergastirio-zografikis-kai-mikton-technikon-anapalaiosi-epiplon/
LOCATION:Πολυχώρος εκδηλώσεων Καλλινίκη\, Κισσάβου 18Α\, Βριλήσσια\, 15235
CATEGORIES:Εργαστήρια
ATTACH;FMTTYPE=image/jpeg:https://kalliniki.gr/wp-content/uploads/2025/09/Μάθημα-ζωγραφικής-2-Έγγραφο-A4-2.jpg
ORGANIZER;CN="%CE%A0%CE%BF%CE%BB%CE%B9%CF%84%CE%B9%CF%83%CF%84%CE%B9%CE%BA%CF%8C%CF%82 %CE%A3%CF%8D%CE%BB%CE%BB%CE%BF%CE%B3%CE%BF%CF%82 %CE%9A%CE%B1%CE%BB%CE%BB%CE%B9%CE%BD%CE%AF%CE%BA%CE%B7":MAILTO:syllogoskalliniki@gmail.com
END:VEVENT
BEGIN:VEVENT
DTSTART;TZID=Europe/Athens:20260415T104500
DTEND;TZID=Europe/Athens:20260415T124500
DTSTAMP:20260420T012803
CREATED:20240917T115741Z
LAST-MODIFIED:20260413T085156Z
UID:1467-1776249900-1776257100@kalliniki.gr
SUMMARY:Group Therapy
DESCRIPTION:Group Therapy με την ψυχολόγο MSc – ψυχοθεραπεύτρια Σμαράγδα Στρούμπα. \nΟι ομάδες προσωπικής ανάπτυξης αποτελούν μια μορφή ομαδικής ψυχοθεραπείας\, με στόχο την κατανόηση του εαυτού και την αναγνώριση της σπουδαιότητας των διαπροσωπικών σχέσεων\, μέσα από την αλληλεπίδραση των μελών της. \nΣε ένα πλαίσιο  ασφάλειας\, αποδοχής και σεβασμού της διαφορετικότητας του Άλλου\, η Ομάδα Προσωπικής Ανάπτυξης έχει  σαν βασικό στόχο να δημιουργηθεί ένα ασφαλές πλαίσιο στήριξης σε θέματα που συναντά το κάθε μέλος στην καθημερινότητά του\, με σεβασμό στον προσωπικό ρυθμό του κάθε συμμετέχοντα. Η ομάδα προσφέρει στα μέλη την ευκαιρία  να: \n\nεκφράσουν σκέψεις και συναισθήματα σε ένα ασφαλές\, υποστηρικτικό περιβάλλον\nγίνουν οι ίδιοι το ασφαλές και υποστηρικτικό περιβάλλον για άλλους ανθρώπους\nαναγνωρίσουν δυσλειτουργικά μοτίβα συμπεριφοράς που επηρεάζουν τη σχέση τους με τους άλλους ανθρώπους\nπειραματιστούν  με καινούριες συμπεριφορές μέσα στην ομάδα και κατά συνεπεία  να βελτιώσουν  τις διαπροσωπικές τους  σχέσεις και επικοινωνία και εκτός ομάδας\nενισχύσουν την αυτοεκτίμηση τους\n\nΚάθε Τετάρτη πρωί 10:45 – 12:45.
URL:https://kalliniki.gr/event/group-therapy/
LOCATION:Πολυχώρος εκδηλώσεων Καλλινίκη\, Κισσάβου 18Α\, Βριλήσσια\, 15235
CATEGORIES:Εργαστήρια
ATTACH;FMTTYPE=image/jpeg:https://kalliniki.gr/wp-content/uploads/2025/08/Group-Therapy-2025-26.jpg
ORGANIZER;CN="%CE%A0%CE%BF%CE%BB%CE%B9%CF%84%CE%B9%CF%83%CF%84%CE%B9%CE%BA%CF%8C%CF%82 %CE%A3%CF%8D%CE%BB%CE%BB%CE%BF%CE%B3%CE%BF%CF%82 %CE%9A%CE%B1%CE%BB%CE%BB%CE%B9%CE%BD%CE%AF%CE%BA%CE%B7":MAILTO:syllogoskalliniki@gmail.com
END:VEVENT
BEGIN:VEVENT
DTSTART;TZID=Europe/Athens:20260416T184500
DTEND;TZID=Europe/Athens:20260416T200000
DTSTAMP:20260420T012803
CREATED:20241015T091957Z
LAST-MODIFIED:20260413T085335Z
UID:1558-1776365100-1776369600@kalliniki.gr
SUMMARY:Μαθήματα δημοτικών χορών
DESCRIPTION:Ελάτε στην δυναμική ομάδα δημοτικών χορών με την μοναδική δασκάλα Μαρία Τσάκωνα. Μια παρέα διασκέδασης και ψυχαγωγίας που δεν θα βρείτε πουθενά αλλού.\nΚισσάβου 18Α σας περιμένουμε να σας ενημερώσουμε για όλα. \nΤώρα και νέο παιδικό -εφηβικό τμήμα. Άλλη εμπειρία! \nΚάθε Πέμπτη και ώρα 18:45 – 20:00
URL:https://kalliniki.gr/event/mathimata-paradosiakon-choron/
LOCATION:Πολυχώρος εκδηλώσεων Καλλινίκη\, Κισσάβου 18Α\, Βριλήσσια\, 15235
CATEGORIES:Εργαστήρια
ATTACH;FMTTYPE=image/jpeg:https://kalliniki.gr/wp-content/uploads/2025/09/ΜΑΘΗΜΑΤΑ-ΔΗΜΟΤΙΚΩΝ-ΧΟΡΩΝ.jpg
ORGANIZER;CN="%CE%A0%CE%BF%CE%BB%CE%B9%CF%84%CE%B9%CF%83%CF%84%CE%B9%CE%BA%CF%8C%CF%82 %CE%A3%CF%8D%CE%BB%CE%BB%CE%BF%CE%B3%CE%BF%CF%82 %CE%9A%CE%B1%CE%BB%CE%BB%CE%B9%CE%BD%CE%AF%CE%BA%CE%B7":MAILTO:syllogoskalliniki@gmail.com
END:VEVENT
BEGIN:VEVENT
DTSTART;TZID=Europe/Athens:20260416T203000
DTEND;TZID=Europe/Athens:20260416T220000
DTSTAMP:20260420T012803
CREATED:20240831T182805Z
LAST-MODIFIED:20260413T085358Z
UID:1368-1776371400-1776376800@kalliniki.gr
SUMMARY:Θεατρική ομάδα Καλλινίκης
DESCRIPTION:Η Θεατρική Ομάδα της ΚΑΛΛΙΝΙΚΗΣ… ΑΝΑΝΕΩΜΕΝΗ και ΔΥΝΑΜΙΚΗ!\nΜε μεγάλη χαρά σας παρουσιάζουμε τους δύο νέους δασκάλους μας:\nτους ταλαντούχους και αγαπημένους ηθοποιούς Βασίλη Τριχά και Αλέξανδρο Δαβιλά\n\n\nΔύο καταξιωμένοι καλλιτέχνες\, με εμπειρία\, πάθος και δημιουργική διάθεση\, ενώνουν τις δυνάμεις τους με την ομάδα μας\, για να δουλέψουν από την αρχή μαζί σας πάνω σε μια νέα θεατρική παραγωγή – το πρώτο θεατρικό έργο της ΚΑΛΛΙΝΙΚΗΣ!\n\n\nΤους έχετε απολαύσει σε τηλεοπτικές σειρές και ταινίες όπως:\n\n«Άγιος Έρωτας» (ALPHA)\n«Έρωτας Φυγάς» (ANT1)\n«IQ160» (STAR)\n«Σασμός» (ALPHA)\n«Παγιδευμένοι» (ANT1)\n«Η Επιστροφή»\, «Αγγελική»\, «Μαύρη Σαμπούκα»\n\nκαι πολλές ακόμα αγαπημένες παραγωγές του θεάτρου\, του σινεμά και της τηλεόρασης!\n\n\n\nΘεατρική Ομάδα Εφηβική & Ενηλίκων – Εγγραφές Άνοιξαν!\nΖήσε μια μοναδική εμπειρία δημιουργίας\, έκφρασης και θεατρικής έκπληξης!\nΣτόχος μας: 2 ώρες την εβδομάδα \, κάθε Τρίτη απόγευμα 19.00-21.00. Δύο ώρες γεμάτες φαντασία\, γέλιο\, ποιότητα\, συνεργασία και δημιουργικότητα Ανανεωθείτε και ανακαλύψτε την ηθοποιία με τους 2 εξαιρετικούς ηθοποιούς \,τον Βασίλη Τριχά και Αλέξανδρο Δαβιλά.\n\n\nKάθε Δευτέρα\, Πέμπτη & Παρασκευή 20:30 – 22:00\n\n\nΗ σκηνή σε περιμένει… Εσύ θα λείπεις;\n\nΠληροφορίες εγγραφές στα τηλέφωνα : 210 6139689 – 693 7254278 ή στο e-mail : syllogoskalliniki@gmail.com
URL:https://kalliniki.gr/event/theatriko-omada-kallinikis/
LOCATION:Πολυχώρος εκδηλώσεων Καλλινίκη\, Κισσάβου 18Α\, Βριλήσσια\, 15235
CATEGORIES:Εργαστήρια
ATTACH;FMTTYPE=image/jpeg:https://kalliniki.gr/wp-content/uploads/2026/02/Θεατρική-Ομάδα.jpg
ORGANIZER;CN="%CE%A0%CE%BF%CE%BB%CE%B9%CF%84%CE%B9%CF%83%CF%84%CE%B9%CE%BA%CF%8C%CF%82 %CE%A3%CF%8D%CE%BB%CE%BB%CE%BF%CE%B3%CE%BF%CF%82 %CE%9A%CE%B1%CE%BB%CE%BB%CE%B9%CE%BD%CE%AF%CE%BA%CE%B7":MAILTO:syllogoskalliniki@gmail.com
END:VEVENT
BEGIN:VEVENT
DTSTART;TZID=Europe/Athens:20260417T170000
DTEND;TZID=Europe/Athens:20260417T183000
DTSTAMP:20260420T012803
CREATED:20250827T125114Z
LAST-MODIFIED:20260413T085712Z
UID:1891-1776445200-1776450600@kalliniki.gr
SUMMARY:Μαθήματα Manga Cartoon/Animation
DESCRIPTION:Σας αρέσει το manga cartoon/animation; Κάντε εγγραφή\, ξεκινάμε τον Σεπτέμβριο!\nΓια όλες τις ηλικίες! Δημιουργείστε την δική σας ιστορία σε cartoon\,το βιβλίο σας\, με την καθοδήγηση της βραβευμένης δασκάλας Κλεοπάτρας Πάκου. Ένα εξαιρετικό ταξίδι στην ανακάλυψη της αποτύπωσης όσων έχετε στην φαντασία σας και όχι μόνο.\nΤολμήστε να δημιουργήσετε\, για όλες τις ηλικίες.\n\nΚάθε Παρασκευή 17:00 – 18:30\n\nΠληροφορίες εγγραφές στο  210 6139689 & 693 7254278
URL:https://kalliniki.gr/event/manga-cartoon-animation/
LOCATION:Πολυχώρος εκδηλώσεων Καλλινίκη\, Κισσάβου 18Α\, Βριλήσσια\, 15235
CATEGORIES:Εργαστήρια
ATTACH;FMTTYPE=image/jpeg:https://kalliniki.gr/wp-content/uploads/2025/09/Manga-Cartoon-Animation-2.jpg
ORGANIZER;CN="%CE%A0%CE%BF%CE%BB%CE%B9%CF%84%CE%B9%CF%83%CF%84%CE%B9%CE%BA%CF%8C%CF%82 %CE%A3%CF%8D%CE%BB%CE%BB%CE%BF%CE%B3%CE%BF%CF%82 %CE%9A%CE%B1%CE%BB%CE%BB%CE%B9%CE%BD%CE%AF%CE%BA%CE%B7":MAILTO:syllogoskalliniki@gmail.com
END:VEVENT
BEGIN:VEVENT
DTSTART;TZID=Europe/Athens:20260417T184500
DTEND;TZID=Europe/Athens:20260417T194500
DTSTAMP:20260420T012803
CREATED:20260209T212147Z
LAST-MODIFIED:20260413T085824Z
UID:2127-1776451500-1776455100@kalliniki.gr
SUMMARY:Μαθήματα Μπουζουκιού
DESCRIPTION:Τώρα στην Καλλινίκη και μαθήματα μπουζουκιού με τον μαέστρο Γιώργο Μίχα. Τα μαθήματα περιλαμβάνουν: \n\nΘεωρία & πρακτική\nΑσκήσεις\nΡυθμοί\nΔρόμοι\nΤαξίμια\n\nΚάθε Παρασκευή 18:45 – 19:45\nΈναρξη Παρασκευή 6 Μαρτίου 2026 \nΠληροφορίες – εγγραφές: 210 6139689 – 693 7254278
URL:https://kalliniki.gr/event/mathimata-bouzoukiou/
LOCATION:Πολυχώρος εκδηλώσεων Καλλινίκη\, Κισσάβου 18Α\, Βριλήσσια\, 15235
CATEGORIES:Εργαστήρια
ATTACH;FMTTYPE=image/jpeg:https://kalliniki.gr/wp-content/uploads/2026/02/Μαθήματα-Μπουζουκιού.jpg
ORGANIZER;CN="%CE%A0%CE%BF%CE%BB%CE%B9%CF%84%CE%B9%CF%83%CF%84%CE%B9%CE%BA%CF%8C%CF%82 %CE%A3%CF%8D%CE%BB%CE%BB%CE%BF%CE%B3%CE%BF%CF%82 %CE%9A%CE%B1%CE%BB%CE%BB%CE%B9%CE%BD%CE%AF%CE%BA%CE%B7":MAILTO:syllogoskalliniki@gmail.com
END:VEVENT
BEGIN:VEVENT
DTSTART;TZID=Europe/Athens:20260418T090000
DTEND;TZID=Europe/Athens:20260418T133000
DTSTAMP:20260420T012803
CREATED:20240904T122531Z
LAST-MODIFIED:20260413T085929Z
UID:1400-1776502800-1776519000@kalliniki.gr
SUMMARY:Μαθήματα φωνητικής\, ορθοφωνίας & ερμηνείας
DESCRIPTION:Μαθήματα φωνητικής\, ορθοφωνίας & ερμηνείας με την Μαρίτα Χατζηδημητρίου -Κωνσταντινοπούλου\nΜουσικοσυνθέτρια- δασκάλα φωνητικής ορθοφωνίας & ερμηνείας. \nΔιδάσκεται μοντέρνο & λαϊκό τραγούδι. \nΑνακαλύψετε τις φυσικές σας δεξιότητες και ικανότητες και φτάστε σε αποτελέσματα που ποτέ δεν πιστεύατε ότι ήταν δυνατό.\nΒελτιώστε τον ήχο της φωνής σας στο τραγούδι και στην ομιλία. \nΚάθε Σάββατο 09:00 – 13:30
URL:https://kalliniki.gr/event/mathimata-fonitikis-orthofonias-ermineias/
LOCATION:Πολυχώρος εκδηλώσεων Καλλινίκη\, Κισσάβου 18Α\, Βριλήσσια\, 15235
CATEGORIES:Εργαστήρια
ATTACH;FMTTYPE=image/jpeg:https://kalliniki.gr/wp-content/uploads/2025/09/Μαθήματα-Φωνητικής-3.jpg
ORGANIZER;CN="%CE%A0%CE%BF%CE%BB%CE%B9%CF%84%CE%B9%CF%83%CF%84%CE%B9%CE%BA%CF%8C%CF%82 %CE%A3%CF%8D%CE%BB%CE%BB%CE%BF%CE%B3%CE%BF%CF%82 %CE%9A%CE%B1%CE%BB%CE%BB%CE%B9%CE%BD%CE%AF%CE%BA%CE%B7":MAILTO:syllogoskalliniki@gmail.com
END:VEVENT
BEGIN:VEVENT
DTSTART;TZID=Europe/Athens:20260418T101500
DTEND;TZID=Europe/Athens:20260418T120000
DTSTAMP:20260420T012803
CREATED:20240903T111631Z
LAST-MODIFIED:20260413T090042Z
UID:1380-1776507300-1776513600@kalliniki.gr
SUMMARY:Μαθήματα Αραβικών
DESCRIPTION:Μαθήματα Αραβικών για 2η χρονιά\, με τον καθηγητή Αραβικής γλώσσας κ. Γασσάν Αλ Φαντέλ. \nΚάθε Σάββατο 10:15 – 12:00 \n 
URL:https://kalliniki.gr/event/mathimata-aravikon/
LOCATION:Πολυχώρος εκδηλώσεων Καλλινίκη\, Κισσάβου 18Α\, Βριλήσσια\, 15235
CATEGORIES:Εργαστήρια
ATTACH;FMTTYPE=image/jpeg:https://kalliniki.gr/wp-content/uploads/2024/09/Μαθήματα-Αραβικών_2025.jpg
ORGANIZER;CN="%CE%A0%CE%BF%CE%BB%CE%B9%CF%84%CE%B9%CF%83%CF%84%CE%B9%CE%BA%CF%8C%CF%82 %CE%A3%CF%8D%CE%BB%CE%BB%CE%BF%CE%B3%CE%BF%CF%82 %CE%9A%CE%B1%CE%BB%CE%BB%CE%B9%CE%BD%CE%AF%CE%BA%CE%B7":MAILTO:syllogoskalliniki@gmail.com
END:VEVENT
BEGIN:VEVENT
DTSTART;TZID=Europe/Athens:20260418T160000
DTEND;TZID=Europe/Athens:20260418T173000
DTSTAMP:20260420T012803
CREATED:20260208T213509Z
LAST-MODIFIED:20260319T193738Z
UID:2120-1776528000-1776533400@kalliniki.gr
SUMMARY:Book Club - Καλλινίκη
DESCRIPTION:Με μεγάλο ενθουσιασμό σας ανακοινώνουμε το πρώτο book club στον χώρο μας στην ΚΑΛΛΙΝΙΚΗ ! \nΠού;\nΚΙΣΣΑΒΟΥ 18Α ΒΡΙΛΗΣΣΙΑ \nΠότε;\nΣΑΒΒΑΤΟ 16:00 – 17:30 \nΚλείσε γρήγορα τη θέση σου με ένα μήνυμα εδώ γιατί ο αριθμός των συμμετεχόντων είναι πολύ περιορισμένος! \nΣε περιμένουμε με χαρά\, να γνωριστούμε και να μοιραστούμε σκέψεις και ιδέες!
URL:https://kalliniki.gr/event/book-club-kalliniki/
LOCATION:Πολυχώρος εκδηλώσεων Καλλινίκη\, Κισσάβου 18Α\, Βριλήσσια\, 15235
CATEGORIES:Εργαστήρια
ATTACH;FMTTYPE=image/jpeg:https://kalliniki.gr/wp-content/uploads/2026/02/Book-Club-Καλλινίκη2.jpg
ORGANIZER;CN="%CE%A0%CE%BF%CE%BB%CE%B9%CF%84%CE%B9%CF%83%CF%84%CE%B9%CE%BA%CF%8C%CF%82 %CE%A3%CF%8D%CE%BB%CE%BB%CE%BF%CE%B3%CE%BF%CF%82 %CE%9A%CE%B1%CE%BB%CE%BB%CE%B9%CE%BD%CE%AF%CE%BA%CE%B7":MAILTO:syllogoskalliniki@gmail.com
END:VEVENT
BEGIN:VEVENT
DTSTART;TZID=Europe/Athens:20260418T180000
DTEND;TZID=Europe/Athens:20260418T190000
DTSTAMP:20260420T012803
CREATED:20260208T195454Z
LAST-MODIFIED:20260413T090109Z
UID:2117-1776535200-1776538800@kalliniki.gr
SUMMARY:Μαθήματα Latin χορών
DESCRIPTION:Με χαρά σας ανακοινώνουμε την έναρξη μαθημάτων χορών Latin στον σύλλογο μας με τον εξειδικευμένο δάσκαλο Βασίλη Τιμόλογο Βάσκεζ. Οι χοροί LATIN έχουν την καταγωγή τους στη Λατινική Αμερική. Τυπικοί χοροί LATIN είναι οι Salsa\, Bachata\, Cha-Cha\, Rumba κ.ά. \nΗ φιλοσοφία της διδασκαλίας βασίζεται: \n\nστη σωστή τεχνική με απλό και ευχάριστο τρόπο\nστη δημιουργία φιλικού και ομαδικού κλίματος\nστη σταδιακή εξέλιξη των μαθητών\nστη συμμετοχή σε εκδηλώσεις\, παρουσιάσεις και δράσεις του συλλόγου.\n\nΈναρξη μαθημάτων Σάββατο 7 Μαρτίου και κάθε Σάββατο 18:00 – 19:00 \nΠληροφορίες – εγγραφές : 210 6139689 – 693 7254278
URL:https://kalliniki.gr/event/mathimata-latin-choron/
LOCATION:Πολυχώρος εκδηλώσεων Καλλινίκη\, Κισσάβου 18Α\, Βριλήσσια\, 15235
CATEGORIES:Εργαστήρια
ATTACH;FMTTYPE=image/jpeg:https://kalliniki.gr/wp-content/uploads/2026/02/Latin-Dance-Classes.jpg
ORGANIZER;CN="%CE%A0%CE%BF%CE%BB%CE%B9%CF%84%CE%B9%CF%83%CF%84%CE%B9%CE%BA%CF%8C%CF%82 %CE%A3%CF%8D%CE%BB%CE%BB%CE%BF%CE%B3%CE%BF%CF%82 %CE%9A%CE%B1%CE%BB%CE%BB%CE%B9%CE%BD%CE%AF%CE%BA%CE%B7":MAILTO:syllogoskalliniki@gmail.com
END:VEVENT
BEGIN:VEVENT
DTSTART;TZID=Europe/Athens:20260425T180000
DTEND;TZID=Europe/Athens:20260425T210000
DTSTAMP:20260420T012803
CREATED:20260413T185647Z
LAST-MODIFIED:20260413T185647Z
UID:2240-1777140000-1777150800@kalliniki.gr
SUMMARY:3η Γιορτή Αγάπης Πολιτιστικών Συλλόγων Δήμου Βριλησσίων
DESCRIPTION:Η ΚΑΛΛΙΝΙΚΗ συμμετέχει στην 3η ΓΙΟΡΤΗ ΑΓΑΠΗΣ ΠΟΛΙΤΙΣΤΙΚΩΝ ΣΥΛΛΟΓΩΝ ΔΗΜΟΥ ΒΡΙΛΗΣΣΙΩΝ\nΕνώνουμε τις δυνάμεις μας για καλό σκοπό και σας προσκαλούμε στην «3η Γιορτή Αγάπης» το ΣΑΒΒΑΤΟ 25/4/2026 στην πλατεία Αναλήψεως Βριλησσιων\n\n\nΣκοπός της εκδήλωσης είναι η ενίσχυση του ΚΟΙΝΩΝΙΚΟΥ ΠΑΝΤΟΠΩΛΕΙΟΥ της πόλης μας.\nΥπάρχει ανάγκη για :  ΑΛΕΥΡΙ – ΓΑΛΑ ΕΒΑΠΟΡΕ – ΖΑΧΑΡΗ – ΖΥΜΑΡΙΚΑ – ΟΣΠΡΙΑ – ΡΥΖΙ\n\n\n*Όλα τα προσφερόμενα είδη θα συγκεντρωθούν σε συγκεκριμένο σημείο στην πλατεία όπου θα είναι σταθμευμένο το δημοτικό όχημα μεταφοράς.\n\n\nΏρα έναρξης προγράμματος 18.00μ.μ.\n\n\nΣΥΜΜΕΤΕΧΟΥΝ ΟΙ ΣΥΛΛΟΓΟΙ\nΒράχος Βριλησσού\, Βριλησσός Φυσιολατρική Κίνηση\, Ελεύθερη Έκφραση Γυναικών Βριλησσίων\, Ένωση Κρητών Βριλησσίων\, Ένωση Ποντίων «Οι Τραντέλληνες»\,\nΕ.Ε.Φ.Α.Σ. Άνω Βριλησσίων «Η Μεταμόρφωση του Σωτήρος»\, Σύλλογος Εθελοντών Αιμοδοτών «Η Αλληλεγγύη»\, Σύλλογος Ηπειρωτών Βριλησσίων\, Σύλλογος Καλλινίκη\,\nΣύλλογος Μακεδόνων-Θρακιωτών Βορειοανατολικής Αττικής Δήμου Βριλησσίων. Σύλλογος Νήσων Βορείου Αιγαίου\, Σύλλογος Ο.Π.Π.Α.\n\n\nΤΟ ΠΡΟΓΡΑΜΜΑ ΤΗΣ ΓΙΟΡΤΗΣ ΑΓΑΠΗΣ\n✓Έναρξη 18.00 μμ\n✓Καλωσόρισμα από τον Αντιπρόεδρο του Συλλόγου Μακεδόνων-Θρακιωτών Βορειοανατολικής Αττικής Δήμου Βριλησσίων\, Αντώνη Αναγνώστου\, με σύντομη ομιλία για το νόημα της αγάπης και του εθελοντισμού.\n✓Χαιρετισμός από τον Δήμαρχο και τον Αντιδήμαρχο Κοινωνικής Πολιτικής και Πρωτοβάθμιας Υγείας.\n✓Θεματικά παιδικά εργαστήρια από τους συλλόγους Αλληλεγγύη και Βράχο Βριλησσού.\n✓Παιχνίδια σκάκι από τον Ε.Ε.Φ.Α.Σ.\n\n\nΣε όλα τα εργαστήρια η συμμετοχή είναι δωρεάν.\n\n\nΧΟΡΕΥΤΙΚΑ ΣΥΛΛΟΓΩΝ με σειρά παρουσίασης\n\n\nΚαλλινίκη\nΒριλησσός\,\nΜακεδόνων-Θρακιωτών\,\nΚρητών\,\nΗπειρωτών\,\nΠοντίων\nΟ.Π.Π.Α.\nΒορείων Νήσων\n\n\nΚεράσματα:\nΒριλησσός Φυσιολατρική Κίνηση\nΕλεύθερη Έκφραση Γυναικών Βριλησσίων\nΈνωση Κρητών Βριλησσίων\nΈνωση Ποντίων «Οι Τραντέλληνες»\nΣύλλογος Ηπειρωτών Βριλησσίων\nΣύλλογος Καλλινίκη\nΣύλλογος Μακεδόνων-Θρακιωτών Βορειοανατολικής Αττικής Δ. Βριλησσίων\n\n\nΣας περιμένουμε με τις προσφορές σας αγάπης
URL:https://kalliniki.gr/event/3i-giorti-agapis-politistikon-syllogon-dimou-vrilission/
LOCATION:Πλατεία Αναλήψεως\, Πλατεία Αναλήψεως\, Βριλήσσια\, 15235
CATEGORIES:Κοινωνική
ATTACH;FMTTYPE=image/jpeg:https://kalliniki.gr/wp-content/uploads/2026/04/3η-γιορτη-αγάπης.jpg
ORGANIZER;CN="%CE%94%CE%AE%CE%BC%CE%BF%CF%82 %CE%92%CF%81%CE%B9%CE%BB%CE%B7%CF%83%CF%83%CE%AF%CF%89%CE%BD":MAILTO:info@vrilissia.gr
END:VEVENT
BEGIN:VEVENT
DTSTART;TZID=Europe/Athens:20260426T170000
DTEND;TZID=Europe/Athens:20260426T180000
DTSTAMP:20260420T012803
CREATED:20260331T091829Z
LAST-MODIFIED:20260403T120943Z
UID:2223-1777222800-1777226400@kalliniki.gr
SUMMARY:Χοληστερίνη: Διατροφή\, Μύθοι\, Αλήθειες & Σύγχρονες Θεραπείες
DESCRIPTION:Θέλεις να μάθεις τι ισχύει πραγματικά για τη χοληστερίνη;\nΣε προσκαλούμε σε ένα ενδιαφέρον και πρακτικό σεμινάριο με θέμα: «Χοληστερίνη: Διατροφή\, Μύθοι\, Αλήθειες & Σύγχρονες Θεραπείες»\n Πώς η διατροφή και η άσκηση επηρεάζουν τη χοληστερίνη\n Μύθοι vs αλήθειες που πρέπει να γνωρίζεις\n Πότε είναι απαραίτητες οι στατίνες\n Πώς οι αλλαγές στον τρόπο ζωής μπορούν να κάνουν τη διαφορά\nΚυριακή 26 Απριλίου 2026\, ώρα: 17:00 – 18:00\nΚισσάβου 18Α\, Βριλήσσια\nΕισηγητής: Θεοφάνης Νικολάου\, Κλινικός Διαιτολόγος –Διατροφολόγος\nΔήλωσε συμμετοχή τώρα & κάνε ένα σημαντικό βήμα για την υγεία σου! 210-6139689\n 
URL:https://kalliniki.gr/event/cholisterini-diatrofi-mythoi-alitheies-sygchrones-therapeies/
LOCATION:Πολυχώρος εκδηλώσεων Καλλινίκη\, Κισσάβου 18Α\, Βριλήσσια\, 15235
CATEGORIES:Ημερίδες
ATTACH;FMTTYPE=image/jpeg:https://kalliniki.gr/wp-content/uploads/2026/04/Σεμινάριο-Υγείας.jpg
ORGANIZER;CN="%CE%A0%CE%BF%CE%BB%CE%B9%CF%84%CE%B9%CF%83%CF%84%CE%B9%CE%BA%CF%8C%CF%82 %CE%A3%CF%8D%CE%BB%CE%BB%CE%BF%CE%B3%CE%BF%CF%82 %CE%9A%CE%B1%CE%BB%CE%BB%CE%B9%CE%BD%CE%AF%CE%BA%CE%B7":MAILTO:syllogoskalliniki@gmail.com
END:VEVENT
BEGIN:VEVENT
DTSTART;TZID=Europe/Athens:20260428T200000
DTEND;TZID=Europe/Athens:20260428T213000
DTSTAMP:20260420T012803
CREATED:20260331T120900Z
LAST-MODIFIED:20260331T120914Z
UID:2228-1777406400-1777411800@kalliniki.gr
SUMMARY:Θέατρο Άνεσις "Η Επιταγή"
DESCRIPTION:Θεατρική βραδιά στο θέατρο Άνεσις Τρίτη 28/4 θα παρακολουθήσουμε την θεατρική παράσταση “Η Επιλογή” της Φωτεινής Ντάφοπουλου. Μια αληθινή ιστορία που θα μιλήσει στις καρδιές όλων.. με την Χρύσα Ρωμα και την Μάρω Χαραλαμπίδου.\n✅Διάρκεια 1\,5 ώρα\n✅Ώρα έναρξης 20.00\n✅Θέατρο Άνεσις\n✅Τιμή εισιτηρίου 13€ (η μεταφορά με πούλμαν 7 €)\n✅Κρατήσεις στο τηλ 210-6139689 και στα γραφεία του Συλλόγου μας. \n 
URL:https://kalliniki.gr/event/theatro-anesis-i-epitagi/
LOCATION:Θέατρο Άνεσις\, Λεωφ. Κηφισίας 14\, Αθήνα\, 11526\, Greece
CATEGORIES:Θέατρο
ATTACH;FMTTYPE=image/jpeg:https://kalliniki.gr/wp-content/uploads/2026/03/photo.jpg
ORGANIZER;CN="%CE%A0%CE%BF%CE%BB%CE%B9%CF%84%CE%B9%CF%83%CF%84%CE%B9%CE%BA%CF%8C%CF%82 %CE%A3%CF%8D%CE%BB%CE%BB%CE%BF%CE%B3%CE%BF%CF%82 %CE%9A%CE%B1%CE%BB%CE%BB%CE%B9%CE%BD%CE%AF%CE%BA%CE%B7":MAILTO:syllogoskalliniki@gmail.com
END:VEVENT
END:VCALENDAR