BEGIN:VCALENDAR
VERSION:2.0
PRODID:-//Καλλινίκη - ECPv6.15.20//NONSGML v1.0//EN
CALSCALE:GREGORIAN
METHOD:PUBLISH
X-WR-CALNAME:Καλλινίκη
X-ORIGINAL-URL:https://kalliniki.gr
X-WR-CALDESC:Events for Καλλινίκη
REFRESH-INTERVAL;VALUE=DURATION:PT1H
X-Robots-Tag:noindex
X-PUBLISHED-TTL:PT1H
BEGIN:VTIMEZONE
TZID:Europe/Athens
BEGIN:DAYLIGHT
TZOFFSETFROM:+0200
TZOFFSETTO:+0300
TZNAME:EEST
DTSTART:20240331T010000
END:DAYLIGHT
BEGIN:STANDARD
TZOFFSETFROM:+0300
TZOFFSETTO:+0200
TZNAME:EET
DTSTART:20241027T010000
END:STANDARD
BEGIN:DAYLIGHT
TZOFFSETFROM:+0200
TZOFFSETTO:+0300
TZNAME:EEST
DTSTART:20250330T010000
END:DAYLIGHT
BEGIN:STANDARD
TZOFFSETFROM:+0300
TZOFFSETTO:+0200
TZNAME:EET
DTSTART:20251026T010000
END:STANDARD
BEGIN:DAYLIGHT
TZOFFSETFROM:+0200
TZOFFSETTO:+0300
TZNAME:EEST
DTSTART:20260329T010000
END:DAYLIGHT
BEGIN:STANDARD
TZOFFSETFROM:+0300
TZOFFSETTO:+0200
TZNAME:EET
DTSTART:20261025T010000
END:STANDARD
END:VTIMEZONE
BEGIN:VEVENT
DTSTART;TZID=Europe/Athens:20251101T210000
DTEND;TZID=Europe/Athens:20251101T230000
DTSTAMP:20260425T143423
CREATED:20250922T131441Z
LAST-MODIFIED:20251008T124227Z
UID:1958-1762030800-1762038000@kalliniki.gr
SUMMARY:Μουσική βραδιά: "Οι δημιουργοί που τραγουδάμε ακόμα"
DESCRIPTION:«Οι δημιουργοί που τραγουδάμε ακόμα» είναι ο τίτλος της ξεχωριστής μουσικής βραδιάς που μας φέρνουν ο Σωτήρης Προίσκος και ο Θάνος Ολύμπιος το Σάββατο 1 Νοεμβρίου στον Πολιτιστικό Σύλλογο Καλλινίκη. Οι δύο ερμηνευτές θα ενώσουν τις φωνές τους σε μια συναυλία γεμάτη τραγούδια που όλοι έχουμε σιγοτραγουδήσει και κρατήσει στην καρδιά μας. Μια γιορτή για τους μεγάλους δημιουργούς του ελληνικού τραγουδιού με σεβασμό και αυθεντικότητα. Θα παρουσιαστούν διαχρονικά τραγούδια που συνεχίζουμε να αγαπάμε και να τραγουδάμε\, σε μια βραδιά γεμάτη συναίσθημα και μουσική που μας ενώνει. \nΟ χαρισματικός τραγουδιστής Θάνος Ολύμπιος είναι πτυχιούχος του μουσικού Παν/μίου Αθηνών. Έχει δισκογραφήσει 29 συνολικά τραγούδια. Το 2016 είχε κυκλοφορήσει ο 2ος προσωπικός του δίσκος με καινούριες συνθέσεις που του εμπιστεύθηκε ο κορυφαίος συνθέτης Μίμης Πλέσσας και σε στίχους σπουδαίων στιχουργών όπως ο Λευτέρης Παπαδόπουλος κ.α. ο οποίος έγινε και πλατινένιος\, ενώ από το 2017 έως το 2019 κυκλοφόρησε τα τελευταία καινούρια τραγούδια σε στίχους του Μάνου Ελευθερίου και σε\nσυνθέσεις των Μίμη Πλέσσα\, Χρύσανθου Μουζακίτη και του ίδιου του Θάνου Ολύμπιου. \nΟ Σωτήρης Προίσκος είναι Μαθηματικός και αυτοδίδακτος μουσικός. Το 2012 ξεκινάει μαθήματα τζαζ πιάνου από τον George Metaxas και συμμετέχει στο μοντέρνο τμήμα του Δημοτικού Ωδείου Πατρών και στην Χορωδία του Πανεπιστημίου\, ενώ αργότερα παίρνει μέρος στην όπερα «Διδώ και Αινείας» με το ΔΗΠΕΘΕ Πάτρας. Το 2017 γίνεται μέλος του φωνητικού συνόλου «Διάσταση» της Κύπρου και από τότε έχει συνεργαστεί με πολλούς καταξιωμένους καλλιτέχνες. Αυτή την περίοδο κάνει live εμφανίσεις σε Ελλάδα και Κύπρο και ασχολείται ενεργά με τη μουσική σύνθεση. \nΣάββατο 1 Νοεμβρίου\, Ώρα Έναρξης: 21:00 \nΕίσοδος: 12 ευρώ με ποτό \nΠληροφορίες: 210 6139689 – 693 7254278
URL:https://kalliniki.gr/event/mousiki-vradia-oi-dimiourgoi-pou-tragoudame-akoma/
LOCATION:Πολυχώρος εκδηλώσεων Καλλινίκη\, Κισσάβου 18Α\, Βριλήσσια\, 15235
CATEGORIES:Μουσική εκδήλωση
ATTACH;FMTTYPE=image/jpeg:https://kalliniki.gr/wp-content/uploads/2025/09/Αντίγραφο-του-Μουσική-Βραδιά.jpg
ORGANIZER;CN="%CE%A0%CE%BF%CE%BB%CE%B9%CF%84%CE%B9%CF%83%CF%84%CE%B9%CE%BA%CF%8C%CF%82 %CE%A3%CF%8D%CE%BB%CE%BB%CE%BF%CE%B3%CE%BF%CF%82 %CE%9A%CE%B1%CE%BB%CE%BB%CE%B9%CE%BD%CE%AF%CE%BA%CE%B7":MAILTO:syllogoskalliniki@gmail.com
END:VEVENT
BEGIN:VEVENT
DTSTART;TZID=Europe/Athens:20251108T170000
DTEND;TZID=Europe/Athens:20251108T183000
DTSTAMP:20260425T143423
CREATED:20251105T222108Z
LAST-MODIFIED:20251105T222108Z
UID:2020-1762621200-1762626600@kalliniki.gr
SUMMARY:Εισαγωγή στην τέχνη του τατουάζ
DESCRIPTION:Είδη και ιστορία\nΤεχνικές Εξοπλισμός\nΥγιεινή και αποστείρωση\nΑπορίες Ερωτήσεις και Παραδείγματα\n\nΟ Γιάννης  Αντωνίου ασχολείτε επαγγελματικά με την τέχνη του Τατουάζ πάνω απο 13 χρόνια με συμμετοχές σε διεθνείς εκθέσεις και διαγωνισμούς στην Ευρώπη και στην Ελλαδα.  Τα τελευταία 4 χρόνια είναι βρίσκεται αναμέσα στούς 120 καλύτερους καλλιτέχνες της Ελλάδας συμμετέχοντας στο ATHENS TATTOO EXPO ενώ τα τελευταία 12 χρόνια διατηρεί με τον αδερφό του Κωνσταντίνο το δικό τους Tattoo Στούντιο στα Βριλήσσια ( V TATTOO STUDIO ) 2014 – 2026.
URL:https://kalliniki.gr/event/eisagogi-stin-techni-tou-tatouaz/
LOCATION:Πολυχώρος εκδηλώσεων Καλλινίκη\, Κισσάβου 18Α\, Βριλήσσια\, 15235
CATEGORIES:Ημερίδες
ATTACH;FMTTYPE=image/jpeg:https://kalliniki.gr/wp-content/uploads/2024/09/Tattoo-workshop.jpg
ORGANIZER;CN="%CE%A0%CE%BF%CE%BB%CE%B9%CF%84%CE%B9%CF%83%CF%84%CE%B9%CE%BA%CF%8C%CF%82 %CE%A3%CF%8D%CE%BB%CE%BB%CE%BF%CE%B3%CE%BF%CF%82 %CE%9A%CE%B1%CE%BB%CE%BB%CE%B9%CE%BD%CE%AF%CE%BA%CE%B7":MAILTO:syllogoskalliniki@gmail.com
END:VEVENT
BEGIN:VEVENT
DTSTART;TZID=Europe/Athens:20251115T210000
DTEND;TZID=Europe/Athens:20251115T230000
DTSTAMP:20260425T143423
CREATED:20250903T124213Z
LAST-MODIFIED:20250903T124213Z
UID:1901-1763240400-1763247600@kalliniki.gr
SUMMARY:Θέατρο Παλλάς - Αλεξάνδρεια
DESCRIPTION:Ξεκινάμε τις βραδιές θεάτρου από το Παλλάς\n“Αλεξάνδρεια” Σάββατο 15 Νοεμβρίου\, ώρα έναρξης 21:00.\nΚόστος ανά άτομο 25 ευρώ (συν 6 η μεταφορά με πούλμαν)\nΚρατήσεις έως 25/9/25 με προεξόφληση.\n\n\nΜια μεγαλειώδης θεατρική παραγωγή σε σύλληψη και σκηνοθεσία Φωκά Ευαγγελίου σε μουσική Ευανθίας Ρεμπούτσικα!\n\n\nΣτην κοσμοπολίτικη Αλεξάνδρεια του μεσοπολέμου ένας απρόσμενος έρωτας πρόκειται να ανατρέψει τις ζωές όλων των πρωταγωνιστών….Με έντονη παρουσία του ιατρικών και πολιτιστικών στοιχείων η παράσταση αυτή αποτυπώνει στη σκηνή μια εποχή όπου η Αλεξάνδρεια αποτελούσε το λίκνο του πολιτισμού\, της επιστήμης και της πνευματικής αναγέννησης…\nΈνα εξαιρετικό καστ γνωστών ηθοποιών ενσαρκώνει τους ρόλους…\nΚλείστε την συμμετοχή σας\, κάθε απόγευμα Δευτέρας Τρίτης και Παρασκευής 17:30 – 20:00 μμ και στο τηλ 210-6139689
URL:https://kalliniki.gr/event/theatro-pallas-alexandreia/
LOCATION:Θέατρο Παλλάς\, Βουκουρεστίου 3-5\, Αθήνα\, 10562\, Ελλάδα
CATEGORIES:Θέατρο
ATTACH;FMTTYPE=image/jpeg:https://kalliniki.gr/wp-content/uploads/2025/09/cropped-image.jpg
ORGANIZER;CN="%CE%A0%CE%BF%CE%BB%CE%B9%CF%84%CE%B9%CF%83%CF%84%CE%B9%CE%BA%CF%8C%CF%82 %CE%A3%CF%8D%CE%BB%CE%BB%CE%BF%CE%B3%CE%BF%CF%82 %CE%9A%CE%B1%CE%BB%CE%BB%CE%B9%CE%BD%CE%AF%CE%BA%CE%B7":MAILTO:syllogoskalliniki@gmail.com
END:VEVENT
BEGIN:VEVENT
DTSTART;TZID=Europe/Athens:20251116T110000
DTEND;TZID=Europe/Athens:20251116T133000
DTSTAMP:20260425T143423
CREATED:20251108T184459Z
LAST-MODIFIED:20251108T184459Z
UID:2028-1763290800-1763299800@kalliniki.gr
SUMMARY:Ιστορικός περίπατος στην Πλάκα
DESCRIPTION:Ο σύλλογος ΚΑΛΛΙΝΙΚΗ σε συνεργασία με την ομάδα Ιστορικών και Ερευνητών “ΠΕΡΠΑΤΑΔΑ” διοργανώνουν ιστορικούς περπάτους στις γειτονιές της Αθήνας\, επιδιώκοντας να φέρουν τους πολίτες πιο κοντά στην ιστορία της πόλης των Αθηνών\, να γνωρίσουν τα κτήρια\, τις γειτονιές και τους ανθρώπους που διαμόρφωσαν τη συλλογική μας μνήμη.. θα γνωρίσουμε μυστικές γωνιές της Αθήνας που καθημερινά περνάμε από μπροστά τους και δεν ξέρουμε ότι αποτελούν ένα ζωντανό κομμάτι της ιστορίας μας . \nΤην Κυριακή στις 16 Νοεμβρίου ξεκινάμε με περίπατο στα σοκάκια της παλιας Αθήνας στην ΠΛΑΚΑ. Ανάμεσα σε αρχοντικά\, αυλές και βυζαντινές εκκλησίες\, η Πλάκα αφηγείται την ιστορία μιας πόλης που ζει ανάμεσα στο αρχαίο και το νεοκλασικό. \nΗ διαδρομή διαρκεί 2 μιση ώρες περίπου και μετά μπορεί ο καθένας να απολαύσει όμορφες γωνιές της Πλάκας είτε για φαγητό είτε για γλυκό ή καφέ.\n👉Τιμή συμμετοχής είναι 7 ευρώ .\n👉Σημείο συνάντησης στην έξοδο του μετρό Μοναστηράκι ώρα 11.00 όπου θα μας περιμένουν οι ιστορικοί για να ξεκινήσουμε την περπατάδα…\n👉Δηλώσεις συμμετοχής στο τηλ. 210-6139689
URL:https://kalliniki.gr/event/istorikos-peripatos-stin-plaka/
LOCATION:Σταθμός Μετρό “Μοναστηράκι”\, XPGG+C7 Αθήνα\, Αθήνα\, 10555\, Greece
CATEGORIES:Εκδρομές
ATTACH;FMTTYPE=image/jpeg:https://kalliniki.gr/wp-content/uploads/2025/11/Ιστορικός-Περίπατος-Πλάκα.jpg
ORGANIZER;CN="%CE%A0%CE%BF%CE%BB%CE%B9%CF%84%CE%B9%CF%83%CF%84%CE%B9%CE%BA%CF%8C%CF%82 %CE%A3%CF%8D%CE%BB%CE%BB%CE%BF%CE%B3%CE%BF%CF%82 %CE%9A%CE%B1%CE%BB%CE%BB%CE%B9%CE%BD%CE%AF%CE%BA%CE%B7":MAILTO:syllogoskalliniki@gmail.com
END:VEVENT
BEGIN:VEVENT
DTSTART;VALUE=DATE:20251129
DTEND;VALUE=DATE:20251130
DTSTAMP:20260425T143423
CREATED:20251115T100739Z
LAST-MODIFIED:20251115T100739Z
UID:2047-1764374400-1764460799@kalliniki.gr
SUMMARY:Μονοήμερη εκδρομή στον Μύλο των Ξωτικών
DESCRIPTION:Η “Καλλινίκη” διοργανώνει μονοήμερη εκδρομή στον Μύλο των Ξωτικών στα Τρίκαλα\, το καταπληκτικό χωριό του Άη Βασίλη με πολλές εκπλήξεις για μικρά και μεγάλα παιδιά\, με δωρεάν είσοδο για όλους. Θα επισκεφτούμε το πιο μεγάλο παραμυθένιο εργοστάσιο\,όπου κάθε γωνιά και πλατεία μεταμορφώνεται και ζωντανεύει με πρωτότυπες εκδηλώσεις.\nΜέσα στον μύλο τών ξωτικών θα δούμε το σπίτι του Άη Βασίλη\, το εργοστάσιο σοκολάτας\,το κάστρο Playmobil\, την παιγνιδοέκθεση της Plan Toys\, το Ταχυδρομείο των Ξωτικών\, το εργαστήρι κατασκευών\, το Ζαχαρενιο εργαστήρι\, κ.α πολλά..\nΤο μεσημέρι ελεύθερος χρόνος για γεύμα και περιήγηση στα αξιοθέατα της πόλης.\n\n\nΣάββατο 29/11/2025\nΤιμή 35€το άτομο.\nΑναχώρηση από ΚΑΛΛΙΝΙΚΗ Κισσάβου 18Α \,στις 7.30π.μ
URL:https://kalliniki.gr/event/monoimeri-ekdromi-ston-mylo-ton-xotikon/
LOCATION:Μύλος των Ξωτικών\, Πάρκο Ματσόπουλου\, Τρίκαλα\, 42100\, Greece
CATEGORIES:Εκδρομές
ATTACH;FMTTYPE=image/jpeg:https://kalliniki.gr/wp-content/uploads/2024/09/Εκδρομή-Μύλος-Ξωτικών.jpg
ORGANIZER;CN="%CE%A0%CE%BF%CE%BB%CE%B9%CF%84%CE%B9%CF%83%CF%84%CE%B9%CE%BA%CF%8C%CF%82 %CE%A3%CF%8D%CE%BB%CE%BB%CE%BF%CE%B3%CE%BF%CF%82 %CE%9A%CE%B1%CE%BB%CE%BB%CE%B9%CE%BD%CE%AF%CE%BA%CE%B7":MAILTO:syllogoskalliniki@gmail.com
END:VEVENT
END:VCALENDAR