BEGIN:VCALENDAR
VERSION:2.0
PRODID:-//Καλλινίκη - ECPv6.15.20//NONSGML v1.0//EN
CALSCALE:GREGORIAN
METHOD:PUBLISH
X-WR-CALNAME:Καλλινίκη
X-ORIGINAL-URL:https://kalliniki.gr
X-WR-CALDESC:Events for Καλλινίκη
REFRESH-INTERVAL;VALUE=DURATION:PT1H
X-Robots-Tag:noindex
X-PUBLISHED-TTL:PT1H
BEGIN:VTIMEZONE
TZID:Europe/Athens
BEGIN:DAYLIGHT
TZOFFSETFROM:+0200
TZOFFSETTO:+0300
TZNAME:EEST
DTSTART:20250330T010000
END:DAYLIGHT
BEGIN:STANDARD
TZOFFSETFROM:+0300
TZOFFSETTO:+0200
TZNAME:EET
DTSTART:20251026T010000
END:STANDARD
BEGIN:DAYLIGHT
TZOFFSETFROM:+0200
TZOFFSETTO:+0300
TZNAME:EEST
DTSTART:20260329T010000
END:DAYLIGHT
BEGIN:STANDARD
TZOFFSETFROM:+0300
TZOFFSETTO:+0200
TZNAME:EET
DTSTART:20261025T010000
END:STANDARD
BEGIN:DAYLIGHT
TZOFFSETFROM:+0200
TZOFFSETTO:+0300
TZNAME:EEST
DTSTART:20270328T010000
END:DAYLIGHT
BEGIN:STANDARD
TZOFFSETFROM:+0300
TZOFFSETTO:+0200
TZNAME:EET
DTSTART:20271031T010000
END:STANDARD
END:VTIMEZONE
BEGIN:VEVENT
DTSTART;TZID=Europe/Athens:20260217T110000
DTEND;TZID=Europe/Athens:20260217T130000
DTSTAMP:20260423T124903
CREATED:20250917T065850Z
LAST-MODIFIED:20260213T164334Z
UID:1948-1771326000-1771333200@kalliniki.gr
SUMMARY:Μαθήματα βιολιού
DESCRIPTION:Μαθήματα βιολιού με τον Ιάσωνα Παπαδόπουλο -Μιχαλά\nΤμήμα Πρωινό κάθε Τρίτη\, κατόπιν συνεννόησης των ωρών. \nΠληροφορίες – εγγραφές: 210 6139689 – 693 7254278
URL:https://kalliniki.gr/event/mathimata-violiou/
LOCATION:Πολυχώρος εκδηλώσεων Καλλινίκη\, Κισσάβου 18Α\, Βριλήσσια\, 15235
CATEGORIES:Εργαστήρια
ATTACH;FMTTYPE=image/jpeg:https://kalliniki.gr/wp-content/uploads/2025/09/Μαθήματα-Βιολιού.jpg
ORGANIZER;CN="%CE%A0%CE%BF%CE%BB%CE%B9%CF%84%CE%B9%CF%83%CF%84%CE%B9%CE%BA%CF%8C%CF%82 %CE%A3%CF%8D%CE%BB%CE%BB%CE%BF%CE%B3%CE%BF%CF%82 %CE%9A%CE%B1%CE%BB%CE%BB%CE%B9%CE%BD%CE%AF%CE%BA%CE%B7":MAILTO:syllogoskalliniki@gmail.com
END:VEVENT
BEGIN:VEVENT
DTSTART;TZID=Europe/Athens:20260217T160000
DTEND;TZID=Europe/Athens:20260217T180000
DTSTAMP:20260423T124903
CREATED:20240908T110958Z
LAST-MODIFIED:20260213T164452Z
UID:1419-1771344000-1771351200@kalliniki.gr
SUMMARY:Μαθήματα κιθάρας
DESCRIPTION:Ελάτε στον μαγικό κόσμο της κιθάρας\, με τον Κώστα Χατζή. \nΟ Κώστας Χατζής (Παιδαγωγικό Τμήμα ΕΚΠΑ)\, προσαρμόζει τα μαθήματα στις ανάγκες του κάθε ενδιαφερόμενου κάθε ηλικίας\, ακόμα και για την προετοιμασία απόκτησης αναγνωρισμένων πτυχίων RGT ηλεκτρικής κιθάρας του University of West London. \nΣου αρέσει η ακουστική\, η κλασσική\, η ηλεκτρική? Ο δάσκαλος θα σε οδηγήσει στην μαγεία της μουσικής που σου αρέσει… \nΚάθε Τρίτη 16:00 – 18:00
URL:https://kalliniki.gr/event/mathimata-kitharas/
LOCATION:Πολυχώρος εκδηλώσεων Καλλινίκη\, Κισσάβου 18Α\, Βριλήσσια\, 15235
CATEGORIES:Εργαστήρια
ATTACH;FMTTYPE=image/jpeg:https://kalliniki.gr/wp-content/uploads/2024/09/Μαθήματα-κιθάρας-2.jpg
ORGANIZER;CN="%CE%A0%CE%BF%CE%BB%CE%B9%CF%84%CE%B9%CF%83%CF%84%CE%B9%CE%BA%CF%8C%CF%82 %CE%A3%CF%8D%CE%BB%CE%BB%CE%BF%CE%B3%CE%BF%CF%82 %CE%9A%CE%B1%CE%BB%CE%BB%CE%B9%CE%BD%CE%AF%CE%BA%CE%B7":MAILTO:syllogoskalliniki@gmail.com
END:VEVENT
BEGIN:VEVENT
DTSTART;TZID=Europe/Athens:20260227T200000
DTEND;TZID=Europe/Athens:20260227T220000
DTSTAMP:20260423T124903
CREATED:20260208T102340Z
LAST-MODIFIED:20260221T101726Z
UID:2099-1772222400-1772229600@kalliniki.gr
SUMMARY:Μέγαρο Μουσικής: «Στον ήλιο των τραγουδιών...»
DESCRIPTION:Πάμε Μέγαρο Μουσικής Παρασκευή 27 Φεβρουαρίου 20:00 διάρκεια 120′ «Στον ήλιο των τραγουδιών…». Με τους καταξιωμένους ερμηνευτές Θάνο Ολύμπιο και Σωτήρη Προίσκο.  Μαζί τους η Νατάσα Χαμπίδου. \n\n\n\nΕκεί που ανατέλλει ο ήλιος\, εκεί οι φωνές ενώνονται και υμνούν μεγάλους δημιουργούς. Οι ηλιαχτίδες γίνονται μουσική σε μια συναυλία υπό το πρίσμα των δημιουργιών των: Μίκη Θεοδωράκη\, Μάνου Χατζιδάκι\, Μίμη Πλέσσα\, Γιάννη Σπανού\, Λευτέρη Παπαδόπουλου\, Μάνου Ελευθερίου\, Νίκου Γκάτσου κ.α.\n\n\n\nΗ αίθουσα του Μεγάρου Μουσικής Αθηνών μετατρέπεται σε ένα πεντάγραμμο γεμάτο πάθος για τραγούδια που μιλούν στις καρδιές. \nΑΙΘΟΥΣΑ ΔΙΔΑΣΚΑΛΙΑΣ\nΜΟΥΣΙΚΗΣ ΒΙΒΛΙΟΘΗΚΗΣ\n\nΤΟΥ ΣΥΛΛΟΓΟΥ ΟΙ ΦΙΛΟΙ ΤΗΣ ΜΟΥΣΙΚΗΣ \n\n\n\nΤιμή 25€ \n\n\n\nΗ μετακίνηση θα γίνει με το μετρό καθότι η είσοδος είναι στο Μέγαρο Μουσικής.\nΚρατήσεις στο τηλ του συλλόγου 210-6139689 ή στο 693 725 4278\nΜέχρι 22/2/2026.
URL:https://kalliniki.gr/event/megaro-mousikis-ston-ilio-ton-tragoudion/
LOCATION:Μέγαρο Μουσικής Αθηνών\, Βασιλίσσης Σοφίας\, Πέτρου Κόκκαλη\, Αθήνα\, 11521\, Greece
CATEGORIES:Μουσική εκδήλωση
ATTACH;FMTTYPE=image/jpeg:https://kalliniki.gr/wp-content/uploads/2026/02/Μέγαρο-Μουσικής_Ολύμπιος-Προίσκος.jpg
ORGANIZER;CN="%CE%A0%CE%BF%CE%BB%CE%B9%CF%84%CE%B9%CF%83%CF%84%CE%B9%CE%BA%CF%8C%CF%82 %CE%A3%CF%8D%CE%BB%CE%BB%CE%BF%CE%B3%CE%BF%CF%82 %CE%9A%CE%B1%CE%BB%CE%BB%CE%B9%CE%BD%CE%AF%CE%BA%CE%B7":MAILTO:syllogoskalliniki@gmail.com
END:VEVENT
END:VCALENDAR