BEGIN:VCALENDAR
VERSION:2.0
PRODID:-//Καλλινίκη - ECPv6.15.20//NONSGML v1.0//EN
CALSCALE:GREGORIAN
METHOD:PUBLISH
X-WR-CALNAME:Καλλινίκη
X-ORIGINAL-URL:https://kalliniki.gr
X-WR-CALDESC:Events for Καλλινίκη
REFRESH-INTERVAL;VALUE=DURATION:PT1H
X-Robots-Tag:noindex
X-PUBLISHED-TTL:PT1H
BEGIN:VTIMEZONE
TZID:Europe/Athens
BEGIN:DAYLIGHT
TZOFFSETFROM:+0200
TZOFFSETTO:+0300
TZNAME:EEST
DTSTART:20240331T010000
END:DAYLIGHT
BEGIN:STANDARD
TZOFFSETFROM:+0300
TZOFFSETTO:+0200
TZNAME:EET
DTSTART:20241027T010000
END:STANDARD
BEGIN:DAYLIGHT
TZOFFSETFROM:+0200
TZOFFSETTO:+0300
TZNAME:EEST
DTSTART:20250330T010000
END:DAYLIGHT
BEGIN:STANDARD
TZOFFSETFROM:+0300
TZOFFSETTO:+0200
TZNAME:EET
DTSTART:20251026T010000
END:STANDARD
BEGIN:DAYLIGHT
TZOFFSETFROM:+0200
TZOFFSETTO:+0300
TZNAME:EEST
DTSTART:20260329T010000
END:DAYLIGHT
BEGIN:STANDARD
TZOFFSETFROM:+0300
TZOFFSETTO:+0200
TZNAME:EET
DTSTART:20261025T010000
END:STANDARD
END:VTIMEZONE
BEGIN:VEVENT
DTSTART;TZID=Europe/Athens:20251115T210000
DTEND;TZID=Europe/Athens:20251115T230000
DTSTAMP:20260424T145229
CREATED:20250903T124213Z
LAST-MODIFIED:20250903T124213Z
UID:1901-1763240400-1763247600@kalliniki.gr
SUMMARY:Θέατρο Παλλάς - Αλεξάνδρεια
DESCRIPTION:Ξεκινάμε τις βραδιές θεάτρου από το Παλλάς\n“Αλεξάνδρεια” Σάββατο 15 Νοεμβρίου\, ώρα έναρξης 21:00.\nΚόστος ανά άτομο 25 ευρώ (συν 6 η μεταφορά με πούλμαν)\nΚρατήσεις έως 25/9/25 με προεξόφληση.\n\n\nΜια μεγαλειώδης θεατρική παραγωγή σε σύλληψη και σκηνοθεσία Φωκά Ευαγγελίου σε μουσική Ευανθίας Ρεμπούτσικα!\n\n\nΣτην κοσμοπολίτικη Αλεξάνδρεια του μεσοπολέμου ένας απρόσμενος έρωτας πρόκειται να ανατρέψει τις ζωές όλων των πρωταγωνιστών….Με έντονη παρουσία του ιατρικών και πολιτιστικών στοιχείων η παράσταση αυτή αποτυπώνει στη σκηνή μια εποχή όπου η Αλεξάνδρεια αποτελούσε το λίκνο του πολιτισμού\, της επιστήμης και της πνευματικής αναγέννησης…\nΈνα εξαιρετικό καστ γνωστών ηθοποιών ενσαρκώνει τους ρόλους…\nΚλείστε την συμμετοχή σας\, κάθε απόγευμα Δευτέρας Τρίτης και Παρασκευής 17:30 – 20:00 μμ και στο τηλ 210-6139689
URL:https://kalliniki.gr/event/theatro-pallas-alexandreia/
LOCATION:Θέατρο Παλλάς\, Βουκουρεστίου 3-5\, Αθήνα\, 10562\, Ελλάδα
CATEGORIES:Θέατρο
ATTACH;FMTTYPE=image/jpeg:https://kalliniki.gr/wp-content/uploads/2025/09/cropped-image.jpg
ORGANIZER;CN="%CE%A0%CE%BF%CE%BB%CE%B9%CF%84%CE%B9%CF%83%CF%84%CE%B9%CE%BA%CF%8C%CF%82 %CE%A3%CF%8D%CE%BB%CE%BB%CE%BF%CE%B3%CE%BF%CF%82 %CE%9A%CE%B1%CE%BB%CE%BB%CE%B9%CE%BD%CE%AF%CE%BA%CE%B7":MAILTO:syllogoskalliniki@gmail.com
END:VEVENT
END:VCALENDAR